IdMappingRetrieval 1.0.0 Alex Lisovich , Roger Day
 | Snapshot Date: 2012-03-23 18:21:46 -0700 (Fri, 23 Mar 2012) |  | URL: https://hedgehog.fhcrc.org/bioconductor/branches/RELEASE_2_9/madman/Rpacks/IdMappingRetrieval |  | Last Changed Rev: 59920 / Revision: 64395 |  | Last Changed Date: 2011-10-31 15:59:03 -0700 (Mon, 31 Oct 2011) |  
  | wilson2  | Linux (openSUSE 11.4) / x86_64  |  OK  | [ OK ] |  | 
| moscato1  | Windows Server 2008 R2 Enterprise SP1 (64-bit) / x64  |  OK  |  OK  |  OK  | 
| pitt  | Mac OS X Leopard (10.5.8) / i386  | N O T   S U P P O R T E D | 
* using log directory ‘/loc/home/biocbuild/bbs-2.9-bioc/meat/IdMappingRetrieval.Rcheck’
* using R version 2.14.2 (2012-02-29)
* using platform: x86_64-unknown-linux-gnu (64-bit)
* using session charset: UTF-8
* using option ‘--no-vignettes’
* checking for file ‘IdMappingRetrieval/DESCRIPTION’ ... OK
* checking extension type ... Package
* this is package ‘IdMappingRetrieval’ version ‘1.0.0’
* checking package namespace information ... OK
* checking package dependencies ... OK
* checking if this is a source package ... OK
* checking if there is a namespace ... OK
* checking whether package ‘IdMappingRetrieval’ can be installed ... OK
* checking installed package size ... OK
* checking package directory ... OK
* checking for portable file names ... OK
* checking for sufficient/correct file permissions ... OK
* checking DESCRIPTION meta-information ... OK
* checking top-level files ... OK
* checking index information ... OK
* checking package subdirectories ... OK
* checking R files for non-ASCII characters ... OK
* checking R files for syntax errors ... OK
* checking whether the package can be loaded ... OK
* checking whether the package can be loaded with stated dependencies ... OK
* checking whether the package can be unloaded cleanly ... OK
* checking whether the namespace can be loaded with stated dependencies ... OK
* checking whether the namespace can be unloaded cleanly ... OK
* checking for unstated dependencies in R code ... OK
* checking S3 generic/method consistency ... OK
* checking replacement functions ... OK
* checking foreign function calls ... OK
* checking R code for possible problems ... NOTE
File ‘IdMappingRetrieval/R/zzz.R’:
  .onAttach calls:
    cat("This is ", pkgname, " ", desc$Version, " ", desc$Date, "\n")
Package startup functions should use ‘packageStartupMessage’ to
  generate messages.
See section ‘Good practice’ in ?.onAttach.
* checking Rd files ... OK
* checking Rd metadata ... OK
* checking Rd cross-references ... OK
* checking for missing documentation entries ... OK
* checking for code/documentation mismatches ... OK
* checking Rd \usage sections ... OK
* checking Rd contents ... OK
* checking for unstated dependencies in examples ... OK
* checking examples ... OK
* checking for unstated dependencies in vignettes ... OK
* checking package vignettes in ‘inst/doc’ ... OK
* checking running R code from vignettes ... SKIPPED
* checking re-building of vignettes ... SKIPPED
* checking PDF version of manual ... OK
 
* installing *source* package ‘IdMappingRetrieval’ ...
** R
** demo
** inst
** preparing package for lazy loading
This is  rChoiceDialogs   1.0.1   2011-01-14 
This is  ENVISIONQuery   1.2.0   2011-07-17 
Warning in setGenericS3.default(name, envir = envir, validators = validators) :
  Renamed the preexisting function getServices to getServices.default, which was defined in environment ENVISIONQuery.
** help
*** installing help indices
** building package indices ...
*** tangling vignette sources ...
   ‘IdMappingRetrieval.Rnw’ using ‘latin-9’ 
** testing if installed package can be loaded
This is  rChoiceDialogs   1.0.1   2011-01-14 
This is  ENVISIONQuery   1.2.0   2011-07-17 
This is  IdMappingRetrieval   1.0.0   2011-06-30 
* DONE (IdMappingRetrieval)