HilbertVisGUI 1.12.1 Simon Anders
 | Snapshot Date: 2012-03-23 18:21:46 -0700 (Fri, 23 Mar 2012) |  | URL: https://hedgehog.fhcrc.org/bioconductor/branches/RELEASE_2_9/madman/Rpacks/HilbertVisGUI |  | Last Changed Rev: 61745 / Revision: 64395 |  | Last Changed Date: 2012-01-03 12:53:52 -0800 (Tue, 03 Jan 2012) |  
  | wilson2  | Linux (openSUSE 11.4) / x86_64  |  OK  |  OK  |  | 
| moscato1  | Windows Server 2008 R2 Enterprise SP1 (64-bit) / x64  | [ OK ] |  OK  |  OK  | 
| pitt  | Mac OS X Leopard (10.5.8) / i386  |  OK  |  OK  |  OK  | 
* checking for file 'HilbertVisGUI/DESCRIPTION' ... OK
* preparing 'HilbertVisGUI':
* checking DESCRIPTION meta-information ... OK
* cleaning src
* installing the package to re-build vignettes
* creating vignettes ... OK
* cleaning src
* checking for LF line-endings in source and make files
* checking for empty or unneeded directories
* building 'HilbertVisGUI_1.12.1.tar.gz'