EBarrays 2.18.0 Ming Yuan
 | Snapshot Date: 2012-03-23 18:21:46 -0700 (Fri, 23 Mar 2012) |  | URL: https://hedgehog.fhcrc.org/bioconductor/branches/RELEASE_2_9/madman/Rpacks/EBarrays |  | Last Changed Rev: 59920 / Revision: 64395 |  | Last Changed Date: 2011-10-31 15:59:03 -0700 (Mon, 31 Oct 2011) |  
  | wilson2  | Linux (openSUSE 11.4) / x86_64  |  OK  |  OK  |  | 
| moscato1  | Windows Server 2008 R2 Enterprise SP1 (64-bit) / x64  |  OK  |  OK  | [ OK ] | 
| pitt  | Mac OS X Leopard (10.5.8) / i386  |  OK  |  OK  |  OK  | 
install for i386
* installing *source* package 'EBarrays' ...
** libs
gcc  -I"D:/biocbld/BBS-2˜1.9-B/R/include"          -O3 -Wall  -std=gnu99 -mtune=core2 -c ebarrays.c -o ebarrays.o
gcc -shared -s -static-libgcc -o EBarrays.dll tmp.def ebarrays.o -LD:/biocbld/BBS-2˜1.9-B/R/bin/i386 -lR
installing to D:/biocbld/bbs-2.9-bioc/meat/EBarrays.buildbin-libdir/EBarrays/libs/i386
** R
** data
** demo
** inst
** preparing package for lazy loading
** help
*** installing help indices
** building package indices ...
*** tangling vignette sources ...
   'vignette.Rnw' 
** testing if installed package can be loaded
add DLL for x64
* installing *source* package 'EBarrays' ...
** libs
gcc -m64 -I"D:/biocbld/BBS-2˜1.9-B/R/include"     -I"d:/RCompile/CRANpkg/extralibs64/local/include"     -O2 -Wall  -std=gnu99 -mtune=core2 -c ebarrays.c -o ebarrays.o
gcc -m64 -shared -s -static-libgcc -o EBarrays.dll tmp.def ebarrays.o -Ld:/RCompile/CRANpkg/extralibs64/local/lib/x64 -Ld:/RCompile/CRANpkg/extralibs64/local/lib -LD:/biocbld/BBS-2˜1.9-B/R/bin/x64 -lR
installing to D:/biocbld/bbs-2.9-bioc/meat/EBarrays.buildbin-libdir/EBarrays/libs/x64
** testing if installed package can be loaded
* MD5 sums
packaged installation of 'EBarrays' as EBarrays_2.18.0.zip
* DONE (EBarrays)