BufferedMatrix 1.17.0 Benjamin Milo Bolstad
 | Snapshot Date: 2011-06-21 19:21:48 -0700 (Tue, 21 Jun 2011) |  | URL: https://hedgehog.fhcrc.org/bioconductor/trunk/madman/Rpacks/BufferedMatrix |  | Last Changed Rev: 54802 / Revision: 56351 |  | Last Changed Date: 2011-04-13 15:36:43 -0700 (Wed, 13 Apr 2011) |  
  | wilson2  | Linux (openSUSE 11.4) / x86_64  |  OK  |  OK  |  | 
| liverpool  | Windows Server 2003 R2 (32-bit) / x64  |  OK  |  OK  |  OK  | 
| gewurz  | Windows Server 2008 R2 Enterprise (64-bit) / x64  |  OK  |  OK  |  OK  | 
| moscato1  | Windows Server 2008 R2 Enterprise (64-bit) / x64  |  OK  |  OK  |  OK  | 
| pelham  | Mac OS X Leopard (10.5.8) / i386  |  OK  |  OK  | [ OK ] | 
>>>>>>> 
>>>>>>> INSTALLATION WITH 'R CMD INSTALL --preclean --library=BufferedMatrix.buildbin-libdir BufferedMatrix_1.17.0.tar.gz'
>>>>>>> 
* installing *source* package ‘BufferedMatrix’ ...
** libs
*** arch - i386
gcc-4.2 -arch i386 -std=gnu99 -I/Library/Frameworks/R.framework/Versions/2.14/Resources/include -I/Library/Frameworks/R.framework/Versions/2.14/Resources/include/i386  -I/usr/local/include    -fPIC  -g -O2 -Wall -pedantic -c RBufferedMatrix.c -o RBufferedMatrix.o
gcc-4.2 -arch i386 -std=gnu99 -I/Library/Frameworks/R.framework/Versions/2.14/Resources/include -I/Library/Frameworks/R.framework/Versions/2.14/Resources/include/i386  -I/usr/local/include    -fPIC  -g -O2 -Wall -pedantic -c doubleBufferedMatrix.c -o doubleBufferedMatrix.o
doubleBufferedMatrix.c:3327: warning: ‘sort_double’ defined but not used
gcc-4.2 -arch i386 -std=gnu99 -I/Library/Frameworks/R.framework/Versions/2.14/Resources/include -I/Library/Frameworks/R.framework/Versions/2.14/Resources/include/i386  -I/usr/local/include    -fPIC  -g -O2 -Wall -pedantic -c doubleBufferedMatrix_C_tests.c -o doubleBufferedMatrix_C_tests.o
gcc-4.2 -arch i386 -std=gnu99 -I/Library/Frameworks/R.framework/Versions/2.14/Resources/include -I/Library/Frameworks/R.framework/Versions/2.14/Resources/include/i386  -I/usr/local/include    -fPIC  -g -O2 -Wall -pedantic -c init_package.c -o init_package.o
gcc-4.2 -arch i386 -std=gnu99 -dynamiclib -Wl,-headerpad_max_install_names -undefined dynamic_lookup -single_module -multiply_defined suppress -L/usr/local/lib -o BufferedMatrix.so RBufferedMatrix.o doubleBufferedMatrix.o doubleBufferedMatrix_C_tests.o init_package.o -F/Library/Frameworks/R.framework/.. -framework R -Wl,-framework -Wl,CoreFoundation
installing to /Users/biocbuild/bbs-2.9-bioc/meat/BufferedMatrix.buildbin-libdir/BufferedMatrix/libs/i386
*** arch - ppc
gcc-4.2 -arch ppc -std=gnu99 -I/Library/Frameworks/R.framework/Versions/2.14/Resources/include -I/Library/Frameworks/R.framework/Versions/2.14/Resources/include/ppc  -I/usr/local/include    -fPIC  -g -O2 -Wall -pedantic -c RBufferedMatrix.c -o RBufferedMatrix.o
gcc-4.2 -arch ppc -std=gnu99 -I/Library/Frameworks/R.framework/Versions/2.14/Resources/include -I/Library/Frameworks/R.framework/Versions/2.14/Resources/include/ppc  -I/usr/local/include    -fPIC  -g -O2 -Wall -pedantic -c doubleBufferedMatrix.c -o doubleBufferedMatrix.o
doubleBufferedMatrix.c:3327: warning: ‘sort_double’ defined but not used
gcc-4.2 -arch ppc -std=gnu99 -I/Library/Frameworks/R.framework/Versions/2.14/Resources/include -I/Library/Frameworks/R.framework/Versions/2.14/Resources/include/ppc  -I/usr/local/include    -fPIC  -g -O2 -Wall -pedantic -c doubleBufferedMatrix_C_tests.c -o doubleBufferedMatrix_C_tests.o
gcc-4.2 -arch ppc -std=gnu99 -I/Library/Frameworks/R.framework/Versions/2.14/Resources/include -I/Library/Frameworks/R.framework/Versions/2.14/Resources/include/ppc  -I/usr/local/include    -fPIC  -g -O2 -Wall -pedantic -c init_package.c -o init_package.o
gcc-4.2 -arch ppc -std=gnu99 -dynamiclib -Wl,-headerpad_max_install_names -undefined dynamic_lookup -single_module -multiply_defined suppress -L/usr/local/lib -o BufferedMatrix.so RBufferedMatrix.o doubleBufferedMatrix.o doubleBufferedMatrix_C_tests.o init_package.o -F/Library/Frameworks/R.framework/.. -framework R -Wl,-framework -Wl,CoreFoundation
installing to /Users/biocbuild/bbs-2.9-bioc/meat/BufferedMatrix.buildbin-libdir/BufferedMatrix/libs/ppc
*** arch - x86_64
gcc-4.2 -arch x86_64 -std=gnu99 -I/Library/Frameworks/R.framework/Versions/2.14/Resources/include -I/Library/Frameworks/R.framework/Versions/2.14/Resources/include/x86_64  -I/usr/local/include    -fPIC  -g -O2 -Wall -pedantic -c RBufferedMatrix.c -o RBufferedMatrix.o
gcc-4.2 -arch x86_64 -std=gnu99 -I/Library/Frameworks/R.framework/Versions/2.14/Resources/include -I/Library/Frameworks/R.framework/Versions/2.14/Resources/include/x86_64  -I/usr/local/include    -fPIC  -g -O2 -Wall -pedantic -c doubleBufferedMatrix.c -o doubleBufferedMatrix.o
doubleBufferedMatrix.c:3327: warning: ‘sort_double’ defined but not used
gcc-4.2 -arch x86_64 -std=gnu99 -I/Library/Frameworks/R.framework/Versions/2.14/Resources/include -I/Library/Frameworks/R.framework/Versions/2.14/Resources/include/x86_64  -I/usr/local/include    -fPIC  -g -O2 -Wall -pedantic -c doubleBufferedMatrix_C_tests.c -o doubleBufferedMatrix_C_tests.o
gcc-4.2 -arch x86_64 -std=gnu99 -I/Library/Frameworks/R.framework/Versions/2.14/Resources/include -I/Library/Frameworks/R.framework/Versions/2.14/Resources/include/x86_64  -I/usr/local/include    -fPIC  -g -O2 -Wall -pedantic -c init_package.c -o init_package.o
gcc-4.2 -arch x86_64 -std=gnu99 -dynamiclib -Wl,-headerpad_max_install_names -undefined dynamic_lookup -single_module -multiply_defined suppress -L/usr/local/lib -o BufferedMatrix.so RBufferedMatrix.o doubleBufferedMatrix.o doubleBufferedMatrix_C_tests.o init_package.o -F/Library/Frameworks/R.framework/.. -framework R -Wl,-framework -Wl,CoreFoundation
installing to /Users/biocbuild/bbs-2.9-bioc/meat/BufferedMatrix.buildbin-libdir/BufferedMatrix/libs/x86_64
** R
** inst
** preparing package for lazy loading
Creating a new generic function for “rowMeans” in package “BufferedMatrix”
Creating a new generic function for “rowSums” in package “BufferedMatrix”
Creating a new generic function for “colMeans” in package “BufferedMatrix”
Creating a new generic function for “colSums” in package “BufferedMatrix”
Creating a generic function for "ncol" from package "base" in package “BufferedMatrix”
Creating a generic function for "nrow" from package "base" in package “BufferedMatrix”
Creating a generic function for "mean" from package "base" in package “BufferedMatrix”
Creating a generic function for "as.matrix" from package "base" in package “BufferedMatrix”
** help
*** installing help indices
** building package indices ...
*** tangling vignette sources ...
   ‘BufferedMatrix.Rnw’ 
** testing if installed package can be loaded
* DONE (BufferedMatrix)
>>>>>>> 
>>>>>>> FIXING LINKS FOR BufferedMatrix.buildbin-libdir/BufferedMatrix/libs/i386/BufferedMatrix.so
>>>>>>> 
install_name_tool -change "/usr/local/lib/libgcc_s.1.dylib" "/Library/Frameworks/R.framework/Versions/2.14/Resources/lib/libgcc_s.1.dylib" "BufferedMatrix.buildbin-libdir/BufferedMatrix/libs/i386/BufferedMatrix.so"
install_name_tool -change "/usr/local/lib/libgfortran.2.dylib" "/Library/Frameworks/R.framework/Versions/2.14/Resources/lib/libgfortran.2.dylib" "BufferedMatrix.buildbin-libdir/BufferedMatrix/libs/i386/BufferedMatrix.so"
install_name_tool -change "/usr/local/lib/libreadline.5.2.dylib" "/Library/Frameworks/R.framework/Versions/2.14/Resources/lib/libreadline.5.2.dylib" "BufferedMatrix.buildbin-libdir/BufferedMatrix/libs/i386/BufferedMatrix.so"
install_name_tool -change "/usr/local/lib/libreadline.dylib" "/Library/Frameworks/R.framework/Versions/2.14/Resources/lib/libreadline.dylib" "BufferedMatrix.buildbin-libdir/BufferedMatrix/libs/i386/BufferedMatrix.so"
>>>>>>> 
>>>>>>> FIXING LINKS FOR BufferedMatrix.buildbin-libdir/BufferedMatrix/libs/ppc/BufferedMatrix.so
>>>>>>> 
install_name_tool -change "/usr/local/lib/libgcc_s.1.dylib" "/Library/Frameworks/R.framework/Versions/2.14/Resources/lib/libgcc_s.1.dylib" "BufferedMatrix.buildbin-libdir/BufferedMatrix/libs/ppc/BufferedMatrix.so"
install_name_tool -change "/usr/local/lib/libgfortran.2.dylib" "/Library/Frameworks/R.framework/Versions/2.14/Resources/lib/libgfortran.2.dylib" "BufferedMatrix.buildbin-libdir/BufferedMatrix/libs/ppc/BufferedMatrix.so"
install_name_tool -change "/usr/local/lib/libreadline.5.2.dylib" "/Library/Frameworks/R.framework/Versions/2.14/Resources/lib/libreadline.5.2.dylib" "BufferedMatrix.buildbin-libdir/BufferedMatrix/libs/ppc/BufferedMatrix.so"
install_name_tool -change "/usr/local/lib/libreadline.dylib" "/Library/Frameworks/R.framework/Versions/2.14/Resources/lib/libreadline.dylib" "BufferedMatrix.buildbin-libdir/BufferedMatrix/libs/ppc/BufferedMatrix.so"
>>>>>>> 
>>>>>>> FIXING LINKS FOR BufferedMatrix.buildbin-libdir/BufferedMatrix/libs/x86_64/BufferedMatrix.so
>>>>>>> 
install_name_tool -change "/usr/local/lib/libgcc_s.1.dylib" "/Library/Frameworks/R.framework/Versions/2.14/Resources/lib/libgcc_s.1.dylib" "BufferedMatrix.buildbin-libdir/BufferedMatrix/libs/x86_64/BufferedMatrix.so"
install_name_tool -change "/usr/local/lib/libgfortran.2.dylib" "/Library/Frameworks/R.framework/Versions/2.14/Resources/lib/libgfortran.2.dylib" "BufferedMatrix.buildbin-libdir/BufferedMatrix/libs/x86_64/BufferedMatrix.so"
install_name_tool -change "/usr/local/lib/libreadline.5.2.dylib" "/Library/Frameworks/R.framework/Versions/2.14/Resources/lib/libreadline.5.2.dylib" "BufferedMatrix.buildbin-libdir/BufferedMatrix/libs/x86_64/BufferedMatrix.so"
install_name_tool -change "/usr/local/lib/libreadline.dylib" "/Library/Frameworks/R.framework/Versions/2.14/Resources/lib/libreadline.dylib" "BufferedMatrix.buildbin-libdir/BufferedMatrix/libs/x86_64/BufferedMatrix.so"