qtbase 0.8-14 Michael Lawrence
 | Snapshot Date: 2011-06-21 19:21:48 -0700 (Tue, 21 Jun 2011) |  | URL: https://hedgehog.fhcrc.org/bioconductor/trunk/madman/Rpacks/qtbase |  | Last Changed Rev: 55980 / Revision: 56351 |  | Last Changed Date: 2011-06-03 07:03:19 -0700 (Fri, 03 Jun 2011) |  
  | wilson2  | Linux (openSUSE 11.4) / x86_64  |  OK  |  WARNINGS  |  | 
| liverpool  | Windows Server 2003 R2 (32-bit) / x64  |  ERROR  |  skipped  |  skipped  | 
| gewurz  | Windows Server 2008 R2 Enterprise (64-bit) / x64  |  ERROR  |  skipped  |  skipped  | 
| moscato1  | Windows Server 2008 R2 Enterprise (64-bit) / x64  |  ERROR  |  skipped  |  skipped  | 
| pelham  | Mac OS X Leopard (10.5.8) / i386  | [ ERROR ] |  skipped  |  skipped  | 
* checking for file ‘qtbase/DESCRIPTION’ ... OK
* preparing ‘qtbase’:
* checking DESCRIPTION meta-information ... OK
* cleaning src
* installing the package to re-build vignettes
      -----------------------------------
* installing *source* package ‘qtbase’ ...
** libs
** arch - i386
mkdir -p ../kdebindings-build;
cd ../kdebindings-build; \
	cmake ../kdebindings -DCMAKE_INSTALL_PREFIX=../inst/local; \
	LD_LIBRARY_PATH=../../generator/bin make install
/bin/sh: cmake: command not found
make[1]: *** No rule to make target `install'.  Stop.
make: *** [all] Error 2
ERROR: compilation failed for package ‘qtbase’
* removing ‘/private/tmp/RtmpyG1NAI/Rinst5f1e17d3/qtbase’
      -----------------------------------
ERROR: package installation failed