globaltest 5.7.3 Jelle Goeman
 | Snapshot Date: 2011-06-21 19:21:48 -0700 (Tue, 21 Jun 2011) |  | URL: https://hedgehog.fhcrc.org/bioconductor/trunk/madman/Rpacks/globaltest |  | Last Changed Rev: 56340 / Revision: 56351 |  | Last Changed Date: 2011-06-21 05:10:12 -0700 (Tue, 21 Jun 2011) |  
  | wilson2  | Linux (openSUSE 11.4) / x86_64  |  OK  |  OK  |  | 
| liverpool  | Windows Server 2003 R2 (32-bit) / x64  |  OK  |  OK  |  OK  | 
| gewurz  | Windows Server 2008 R2 Enterprise (64-bit) / x64  |  OK  |  OK  |  OK  | 
| moscato1  | Windows Server 2008 R2 Enterprise (64-bit) / x64  |  OK  |  OK  |  OK  | 
| pelham  | Mac OS X Leopard (10.5.8) / i386  |  OK  |  OK  | [ OK ] | 
>>>>>>> 
>>>>>>> INSTALLATION WITH 'R CMD INSTALL --preclean --library=globaltest.buildbin-libdir globaltest_5.7.3.tar.gz'
>>>>>>> 
* installing *source* package ‘globaltest’ ...
** R
** data
** inst
** preparing package for lazy loading
Creating a generic function for "sort" from package "base" in package “globaltest”
Creating a generic function for "model.matrix" from package "stats" in package “globaltest”
Creating a generic function for "coefficients" from package "stats" in package “globaltest”
Creating a generic function for "fitted.values" from package "stats" in package “globaltest”
Creating a generic function for "residuals" from package "stats" in package “globaltest”
** help
*** installing help indices
** building package indices ...
*** tangling vignette sources ...
   ‘GlobalTest.Rnw’ 
   ‘GlobalTest_deprecated.Rnw’ 
** testing if installed package can be loaded
* DONE (globaltest)