GeneAnswers 1.9.0 Gang Feng  , Pan Du  and Tian Xia
 | Snapshot Date: 2011-06-21 19:21:48 -0700 (Tue, 21 Jun 2011) |  | URL: https://hedgehog.fhcrc.org/bioconductor/trunk/madman/Rpacks/GeneAnswers |  | Last Changed Rev: 56090 / Revision: 56351 |  | Last Changed Date: 2011-06-09 17:02:42 -0700 (Thu, 09 Jun 2011) |  
  | wilson2  | Linux (openSUSE 11.4) / x86_64  |  OK  |  OK  |  | 
| liverpool  | Windows Server 2003 R2 (32-bit) / x64  |  OK  |  OK  |  OK  | 
| gewurz  | Windows Server 2008 R2 Enterprise (64-bit) / x64  |  OK  |  OK  |  OK  | 
| moscato1  | Windows Server 2008 R2 Enterprise (64-bit) / x64  |  OK  |  OK  |  OK  | 
| pelham  | Mac OS X Leopard (10.5.8) / i386  |  OK  |  OK  | [ OK ] | 
>>>>>>> 
>>>>>>> INSTALLATION WITH 'R CMD INSTALL --preclean --library=GeneAnswers.buildbin-libdir GeneAnswers_1.9.0.tar.gz'
>>>>>>> 
* installing *source* package ‘GeneAnswers’ ...
** R
** data
** inst
** preparing package for lazy loading
Loading required package: bitops
Loading required package: AnnotationDbi
Loading required package: Biobase
Welcome to Bioconductor
  Vignettes contain introductory material. To view, type
  'browseVignettes()'. To cite Bioconductor, see
  'citation("Biobase")' and for packages 'citation("pkgname")'.
Loading required package: DBI
** help
*** installing help indices
** building package indices ...
*** tangling vignette sources ...
   ‘GeneAnswersCWAnnotation.Rnw’ 
   ‘geneAnswers.Rnw’ 
   ‘geneFunctionSummarize.Rnw’ 
** testing if installed package can be loaded
* DONE (GeneAnswers)