iFlow 2.3.1 Kyongryun Lee
| Snapshot Date: 2010-11-17 11:24:10 -0800 (Wed, 17 Nov 2010) | | URL: https://hedgehog.fhcrc.org/bioconductor/trunk/madman/Rpacks/iFlow | | Last Changed Rev: 47414 / Revision: 50936 | | Last Changed Date: 2010-06-11 13:53:42 -0700 (Fri, 11 Jun 2010) |
| lamb2 | Linux (openSUSE 11.2) / x86_64 | OK | ERROR | |
| liverpool | Windows Server 2003 R2 (32-bit) / x64 | [ TIMEOUT ] | skipped | skipped |
| gewurz | Windows Server 2008 R2 Enterprise (64-bit) / x64 | N O T S U P P O R T E D |
| pelham | Mac OS X Leopard (10.5.8) / i386 | OK | ERROR | OK |
| petty | Mac OS X Snow Leopard (10.6.4) / i386 | OK | ERROR | OK |