| flowMerge 1.99.12 Greg Finak
 
 | Snapshot Date: 2011-03-13 11:16:29 -0700 (Sun, 13 Mar 2011) |  | URL: https://hedgehog.fhcrc.org/bioconductor/trunk/madman/Rpacks/flowMerge |  | Last Changed Rev: 53622 / Revision: 53663 |  | Last Changed Date: 2011-03-11 11:55:06 -0800 (Fri, 11 Mar 2011) | 
 | lamb1 | Linux (openSUSE 11.3) / x86_64 | OK | OK |  | 
| liverpool | Windows Server 2003 R2 (32-bit) / x64 | [ ERROR ] | skipped | skipped | 
| gewurz | Windows Server 2008 R2 Enterprise (64-bit) / x64 | ERROR | skipped | skipped | 
| pelham | Mac OS X Leopard (10.5.8) / i386 | OK | OK | OK | 
| petty | Mac OS X Snow Leopard (10.6.6) / i386 | OK | OK | OK | 
* checking for file 'flowMerge/DESCRIPTION' ... OK
* preparing 'flowMerge':
* checking DESCRIPTION meta-information ... OK
* installing the package to re-build vignettes
      -----------------------------------
ERROR: dependency 'multicore' is not available for package 'flowMerge'
* removing 'E:/biocbld/bbs-2.8-bioc/tmpdir/RtmpSknlls/Rinst7b346d4f/flowMerge'
      -----------------------------------
ERROR: package installation failed