biocLite 0.99.35 Biocore Team c/o BioC user list
| Snapshot Date: 2011-03-14 11:16:23 -0700 (Mon, 14 Mar 2011) | | URL: https://hedgehog.fhcrc.org/bioconductor/trunk/madman/Rpacks/biocLite | | Last Changed Rev: 53636 / Revision: 53695 | | Last Changed Date: 2011-03-11 17:26:09 -0800 (Fri, 11 Mar 2011) |
| lamb1 | Linux (openSUSE 11.3) / x86_64 | [ OK ] | OK | |
| liverpool | Windows Server 2003 R2 (32-bit) / x64 | OK | OK | OK |
| gewurz | Windows Server 2008 R2 Enterprise (64-bit) / x64 | OK | OK | OK |
| pelham | Mac OS X Leopard (10.5.8) / i386 | OK | OK | OK |
| petty | Mac OS X Snow Leopard (10.6.6) / i386 | OK | OK | OK |