les 1.1.5 Julian Gehring
| Snapshot Date: 2011-02-24 11:26:35 -0800 (Thu, 24 Feb 2011) | | URL: https://hedgehog.fhcrc.org/bioconductor/trunk/madman/Rpacks/les | | Last Changed Rev: 52121 / Revision: 53255 | | Last Changed Date: 2011-01-27 05:05:21 -0800 (Thu, 27 Jan 2011) |
| lamb2 | Linux (openSUSE 11.2) / x86_64 | OK | OK | |
| liverpool | Windows Server 2003 R2 (32-bit) / x64 | OK | OK | OK |
| gewurz | Windows Server 2008 R2 Enterprise (64-bit) / x64 | OK | OK | [ OK ] |
| pelham | Mac OS X Leopard (10.5.8) / i386 | OK | OK | OK |
| petty | Mac OS X Snow Leopard (10.6.4) / i386 | OK | WARNINGS | OK |
* installing *source* package 'les' ...
** R
** data
** inst
** preparing package for lazy loading
Creating a new generic function for "plot" in "les"
Creating a new generic function for "summary" in "les"
** help
*** installing help indices
** building package indices ...
** testing if installed package can be loaded
* MD5 sums
packaged installation of 'les' as les_1.1.5.zip
* DONE (les)