GGBase 3.11.5 Vince Carey
| Snapshot Date: 2011-02-24 11:26:35 -0800 (Thu, 24 Feb 2011) | | URL: https://hedgehog.fhcrc.org/bioconductor/trunk/madman/Rpacks/GGBase | | Last Changed Rev: 51105 / Revision: 53255 | | Last Changed Date: 2010-11-29 08:42:29 -0800 (Mon, 29 Nov 2010) |
| lamb2 | Linux (openSUSE 11.2) / x86_64 | OK | OK | |
| liverpool | Windows Server 2003 R2 (32-bit) / x64 | OK | OK | OK |
| gewurz | Windows Server 2008 R2 Enterprise (64-bit) / x64 | OK | WARNINGS | OK |
| pelham | Mac OS X Leopard (10.5.8) / i386 | [ OK ] | OK | OK |
| petty | Mac OS X Snow Leopard (10.6.4) / i386 | OK | OK | OK |
* checking for file ‘GGBase/DESCRIPTION’ ... OK
* preparing ‘GGBase’:
* checking DESCRIPTION meta-information ... OK
* installing the package to re-build vignettes
* creating vignettes ... OK
* checking for LF line-endings in source and make files
* checking for empty or unneeded directories
WARNING: directory ‘GGBase/inst/extdata’ is empty
* building ‘GGBase_3.11.5.tar.gz’