| Back to the "Multiple platform build/check report" |
| Package 35/84 | Hostname | OS / Arch | BUILD | CHECK | BUILD BIN | ||||
| golubEsets 1.4.7 Vince Carey
| lamb2 | Linux (openSUSE 11.2) / x86_64 | OK | OK | |||||
| liverpool | Windows Server 2003 R2 (32-bit) / x64 | OK | OK | [ OK ] | |||||
| pelham | Mac OS X Leopard (10.5.8) / i386 | OK | OK | OK |
| Package: golubEsets |
| Version: 1.4.7 |
| Command: E:\biocbld\bbs-2.7-bioc\R\bin\R.exe CMD INSTALL --build --library=golubEsets.buildbin-libdir golubEsets_1.4.7.tar.gz |
| StartedAt: 2010-11-11 17:01:49 -0800 (Thu, 11 Nov 2010) |
| EndedAt: 2010-11-11 17:02:07 -0800 (Thu, 11 Nov 2010) |
| EllapsedTime: 17.9 seconds |
| RetCode: 0 |
| Status: OK |
| PackageFile: golubEsets_1.4.7.zip |
| PackageFileSize: 8.008 MiB |
* installing *source* package 'golubEsets' ... ** data ** help *** installing help indices ** building package indices ... ** testing if installed package can be loaded * MD5 sums packaged installation of 'golubEsets' as golubEsets_1.4.7.zip * DONE (golubEsets)