GEOquery 2.16.3 Sean Davis
| Snapshot Date: 2011-02-12 23:27:29 -0800 (Sat, 12 Feb 2011) | | URL: https://hedgehog.fhcrc.org/bioconductor/branches/RELEASE_2_7/madman/Rpacks/GEOquery | | Last Changed Rev: 51619 / Revision: 52631 | | Last Changed Date: 2010-12-20 03:41:35 -0800 (Mon, 20 Dec 2010) |
| lamb2 | Linux (openSUSE 11.2) / x86_64 | OK | OK | |
| liverpool | Windows Server 2003 R2 (32-bit) / x64 | OK | OK | OK |
| gewurz | Windows Server 2008 R2 Enterprise (64-bit) / x64 | OK | OK | [ OK ] |
| pelham | Mac OS X Leopard (10.5.8) / i386 | OK | OK | OK |
* installing *source* package 'GEOquery' ...
** R
** inst
** preparing package for lazy loading
Welcome to Bioconductor
Vignettes contain introductory material. To view, type
'openVignette()'. To cite Bioconductor, see
'citation("Biobase")' and for packages 'citation(pkgname)'.
** help
*** installing help indices
** building package indices ...
** testing if installed package can be loaded
* MD5 sums
packaged installation of 'GEOquery' as GEOquery_2.16.3.zip
* DONE (GEOquery)