xmapcore 1.2.8 Tim Yates
 | Snapshot Date: 2010-10-04 11:22:20 -0700 (Mon, 04 Oct 2010) |  | URL: https://hedgehog.fhcrc.org/bioconductor/branches/RELEASE_2_6/madman/Rpacks/xmapcore |  | Last Changed Rev: 49044 / Revision: 49923 |  | Last Changed Date: 2010-08-26 02:22:29 -0700 (Thu, 26 Aug 2010) |  
  | wilson1  | Linux (openSUSE 11.1) / x86_64  |  OK  |  OK  |  | 
| liverpool  | Windows Server 2003 R2 (32-bit) / x64  | N O T   S U P P O R T E D | 
| gewurz  | Windows Server 2008 R2 Enterprise (64-bit) / x64  | N O T   S U P P O R T E D | 
| pelham  | Mac OS X Leopard (10.5.8) / i386  | [ OK ] |  OK  |  OK  | 
* checking for file 'xmapcore/DESCRIPTION' ... OK
* preparing 'xmapcore':
* checking DESCRIPTION meta-information ... OK
* installing the package to re-build vignettes
* installing *source* package ‘xmapcore’ ...
** R
** inst
** preparing package for lazy loading
Loading required package: DBI
Attaching package: 'IRanges'
The following object(s) are masked from 'package:base':
    Map, cbind, mapply, order, paste, pmax, pmax.int, pmin, pmin.int,
    rbind, rep.int, table
** help
*** installing help indices
** building package indices ...
** testing if installed package can be loaded
* DONE (xmapcore)
* creating vignettes ... OK
* removing junk files
* checking for LF line-endings in source and make files
* checking for empty or unneeded directories
* building 'xmapcore_1.2.8.tar.gz'