simulatorAPMS 1.20.0 Tony Chiang
 | Snapshot Date: 2010-10-04 11:22:20 -0700 (Mon, 04 Oct 2010) |  | URL: https://hedgehog.fhcrc.org/bioconductor/branches/RELEASE_2_6/madman/Rpacks/simulatorAPMS |  | Last Changed Rev: 46401 / Revision: 49923 |  | Last Changed Date: 2010-04-22 11:21:23 -0700 (Thu, 22 Apr 2010) |  
  | wilson1  | Linux (openSUSE 11.1) / x86_64  |  OK  |  OK  |  | 
| liverpool  | Windows Server 2003 R2 (32-bit) / x64  |  OK  |  OK  |  OK  | 
| gewurz  | Windows Server 2008 R2 Enterprise (64-bit) / x64  |  OK  |  OK  |  OK  | 
| pelham  | Mac OS X Leopard (10.5.8) / i386  |  OK  |  OK  | [ OK ] | 
                INSTALLATION WITH 'R CMD INSTALL --preclean --library=simulatorAPMS.buildbin-libdir simulatorAPMS_1.20.0.tar.gz'
* installing *source* package ‘simulatorAPMS’ ...
** R
** data
** inst
** preparing package for lazy loading
Loading required package: GO.db
Loading required package: AnnotationDbi
Loading required package: Biobase
Welcome to Bioconductor
  Vignettes contain introductory material. To view, type
  'openVignette()'. To cite Bioconductor, see
  'citation("Biobase")' and for packages 'citation(pkgname)'.
Loading required package: DBI
Loading required package: RpsiXML
Loading required package: annotate
Loading required package: graph
Loading required package: RBGL
Loading required package: XML
Attaching package: 'XML'
The following object(s) are masked from 'package:graph':
    addNode
Loading required package: hypergraph
Attaching package: 'hypergraph'
The following object(s) are masked from 'package:AnnotationDbi':
    head, tail
The following object(s) are masked from 'package:utils':
    head, tail
Loading required package: apComplex
** help
*** installing help indices
** building package indices ...
** testing if installed package can be loaded
*** Deprecation warning ***:
The package 'simulatorAPMS' is deprecated and will not be supported after Bioconductor release 2.4. The methods and functions will be ported over to ppiStats within the next two releases.
* DONE (simulatorAPMS)