sigPathway 1.16.0 Weil Lai
 | Snapshot Date: 2010-10-04 11:22:20 -0700 (Mon, 04 Oct 2010) |  | URL: https://hedgehog.fhcrc.org/bioconductor/branches/RELEASE_2_6/madman/Rpacks/sigPathway |  | Last Changed Rev: 46401 / Revision: 49923 |  | Last Changed Date: 2010-04-22 11:21:23 -0700 (Thu, 22 Apr 2010) |  
  | wilson1  | Linux (openSUSE 11.1) / x86_64  |  OK  |  OK  |  | 
| liverpool  | Windows Server 2003 R2 (32-bit) / x64  |  OK  |  OK  |  OK  | 
| gewurz  | Windows Server 2008 R2 Enterprise (64-bit) / x64  |  OK  |  OK  | [ OK ] | 
| pelham  | Mac OS X Leopard (10.5.8) / i386  |  OK  |  OK  |  OK  | 
* installing *source* package 'sigPathway' ...
  Using auto-selected zip option '--use-zip-data'
** libs
  making DLL ...
x86_64-w64-mingw32-gcc -I"D:/biocbld/bbs-2.6-bioc/R/include"         -O2 -Wall  -std=gnu99 -c calc_gene_set_internal.c -o calc_gene_set_internal.o
x86_64-w64-mingw32-gcc -I"D:/biocbld/bbs-2.6-bioc/R/include"         -O2 -Wall  -std=gnu99 -c calc_gene_set_stat.c -o calc_gene_set_stat.o
x86_64-w64-mingw32-gcc -I"D:/biocbld/bbs-2.6-bioc/R/include"         -O2 -Wall  -std=gnu99 -c calc_probe_stat.c -o calc_probe_stat.o
x86_64-w64-mingw32-gcc -I"D:/biocbld/bbs-2.6-bioc/R/include"         -O2 -Wall  -std=gnu99 -c calc_weights.c -o calc_weights.o
x86_64-w64-mingw32-gcc -I"D:/biocbld/bbs-2.6-bioc/R/include"         -O2 -Wall  -std=gnu99 -c matrix_fn.c -o matrix_fn.o
x86_64-w64-mingw32-gcc -I"D:/biocbld/bbs-2.6-bioc/R/include"         -O2 -Wall  -std=gnu99 -c permute.c -o permute.o
x86_64-w64-mingw32-gcc -I"D:/biocbld/bbs-2.6-bioc/R/include"         -O2 -Wall  -std=gnu99 -c shuffle.c -o shuffle.o
x86_64-w64-mingw32-gcc -I"D:/biocbld/bbs-2.6-bioc/R/include"         -O2 -Wall  -std=gnu99 -c sigPathway.c -o sigPathway.o
x86_64-w64-mingw32-gcc -shared -s -static-libgcc -o sigPathway.dll tmp.def calc_gene_set_internal.o calc_gene_set_stat.o calc_probe_stat.o calc_weights.o matrix_fn.o permute.o shuffle.o sigPathway.o -LD:/biocbld/bbs-2.6-bioc/R/bin -lRlapack -LD:/biocbld/bbs-2.6-bioc/R/bin -lRblas -lgfortran -LD:/biocbld/bbs-2.6-bioc/R/bin -lR
installing to D:/biocbld/bbs-2.6-bioc/meat/sigPathway.buildbin-libdir/sigPathway/libs/x64
  ... done
** R
** data
** inst
** preparing package for lazy loading
** help
*** installing help indices
** building package indices ...
** testing if installed package can be loaded
* MD5 sums
packaged installation of 'sigPathway' as sigPathway_1.16.0.zip
* DONE (sigPathway)