plier 1.18.0 Crispin Miller
 | Snapshot Date: 2010-10-04 11:22:20 -0700 (Mon, 04 Oct 2010) |  | URL: https://hedgehog.fhcrc.org/bioconductor/branches/RELEASE_2_6/madman/Rpacks/plier |  | Last Changed Rev: 46401 / Revision: 49923 |  | Last Changed Date: 2010-04-22 11:21:23 -0700 (Thu, 22 Apr 2010) |  
  | wilson1  | Linux (openSUSE 11.1) / x86_64  |  OK  |  OK  |  | 
| liverpool  | Windows Server 2003 R2 (32-bit) / x64  |  OK  |  OK  | [ OK ] | 
| gewurz  | Windows Server 2008 R2 Enterprise (64-bit) / x64  |  OK  |  OK  |  OK  | 
| pelham  | Mac OS X Leopard (10.5.8) / i386  |  OK  |  OK  |  OK  | 
* installing *source* package 'plier' ...
** libs
  making DLL ...
g++ -I"E:/biocbld/bbs-2.6-bioc/R/include"         -O2 -Wall  -c affyplier.cpp -o affyplier.o
g++ -I"E:/biocbld/bbs-2.6-bioc/R/include"         -O2 -Wall  -c plier_impl.cpp -o plier_impl.o
g++ -I"E:/biocbld/bbs-2.6-bioc/R/include"         -O2 -Wall  -c plieralg.cpp -o plieralg.o
plieralg.cpp: In function 'long int NewtonPlier(plier_data*, double&)':
plieralg.cpp:910: warning: 'LogLikelihood' may be used uninitialized in this function
plieralg.cpp: At global scope:
plieralg.cpp:49: warning: 'g_ErrorCode' defined but not used
g++ -I"E:/biocbld/bbs-2.6-bioc/R/include"         -O2 -Wall  -c rwrapper.cpp -o rwrapper.o
g++ -shared -s -static-libgcc -o plier.dll tmp.def affyplier.o plier_impl.o plieralg.o rwrapper.o -LE:/biocbld/bbs-2.6-bioc/R/bin -lR
installing to E:/biocbld/bbs-2.6-bioc/meat/plier.buildbin-libdir/plier/libs
  ... done
** R
** preparing package for lazy loading
Loading required package: Biobase
Welcome to Bioconductor
  Vignettes contain introductory material. To view, type
  'openVignette()'. To cite Bioconductor, see
  'citation("Biobase")' and for packages 'citation(pkgname)'.
** help
*** installing help indices
** building package indices ...
** testing if installed package can be loaded
* MD5 sums
packaged installation of 'plier' as plier_1.18.0.zip
* DONE (plier)