limma 3.4.5 Gordon Smyth
 | Snapshot Date: 2010-10-04 11:22:20 -0700 (Mon, 04 Oct 2010) |  | URL: https://hedgehog.fhcrc.org/bioconductor/branches/RELEASE_2_6/madman/Rpacks/limma |  | Last Changed Rev: 49285 / Revision: 49923 |  | Last Changed Date: 2010-09-07 22:57:09 -0700 (Tue, 07 Sep 2010) |  
  | wilson1  | Linux (openSUSE 11.1) / x86_64  |  OK  |  OK  |  | 
| liverpool  | Windows Server 2003 R2 (32-bit) / x64  |  OK  |  OK  | [ OK ] | 
| gewurz  | Windows Server 2008 R2 Enterprise (64-bit) / x64  |  OK  |  OK  |  OK  | 
| pelham  | Mac OS X Leopard (10.5.8) / i386  |  OK  |  OK  |  OK  | 
* installing *source* package 'limma' ...
** libs
  making DLL ...
gcc -I"E:/biocbld/bbs-2.6-bioc/R/include"         -O3 -Wall  -std=gnu99 -c normexp.c -o normexp.o
gcc -shared -s -static-libgcc -o limma.dll tmp.def normexp.o -LE:/biocbld/bbs-2.6-bioc/R/bin -lR
installing to E:/biocbld/bbs-2.6-bioc/meat/limma.buildbin-libdir/limma/libs
  ... done
** R
** inst
** preparing package for lazy loading
** help
*** installing help indices
** building package indices ...
** testing if installed package can be loaded
* MD5 sums
packaged installation of 'limma' as limma_3.4.5.zip
* DONE (limma)