hyperdraw 1.0.0 Paul Murrell
 | Snapshot Date: 2010-10-04 11:22:20 -0700 (Mon, 04 Oct 2010) |  | URL: https://hedgehog.fhcrc.org/bioconductor/branches/RELEASE_2_6/madman/Rpacks/hyperdraw |  | Last Changed Rev: 46401 / Revision: 49923 |  | Last Changed Date: 2010-04-22 11:21:23 -0700 (Thu, 22 Apr 2010) |  
  | wilson1  | Linux (openSUSE 11.1) / x86_64  |  OK  |  OK  |  | 
| liverpool  | Windows Server 2003 R2 (32-bit) / x64  |  OK  |  OK  | [ OK ] | 
| gewurz  | Windows Server 2008 R2 Enterprise (64-bit) / x64  |  OK  |  OK  |  OK  | 
| pelham  | Mac OS X Leopard (10.5.8) / i386  |  OK  |  OK  |  OK  | 
* installing *source* package 'hyperdraw' ...
** R
** inst
** preparing package for lazy loading
Attaching package: 'hypergraph'
The following object(s) are masked from 'package:utils':
    head, tail
Creating a generic for 'graphLayout' in package 'hyperdraw'
    (the supplied definition differs from and overrides the implicit generic
    in package 'Rgraphviz': Classes: "nonstandardGenericFunction", "standardGeneric")
** help
*** installing help indices
** building package indices ...
** testing if installed package can be loaded
* MD5 sums
packaged installation of 'hyperdraw' as hyperdraw_1.0.0.zip
* DONE (hyperdraw)