affyILM 1.0.0 Myriam Kroll and Fabrice Berger
 | Snapshot Date: 2010-10-04 11:22:20 -0700 (Mon, 04 Oct 2010) |  | URL: https://hedgehog.fhcrc.org/bioconductor/branches/RELEASE_2_6/madman/Rpacks/affyILM |  | Last Changed Rev: 47184 / Revision: 49923 |  | Last Changed Date: 2010-05-27 17:19:41 -0700 (Thu, 27 May 2010) |  
  | wilson1  | Linux (openSUSE 11.1) / x86_64  |  OK  |  OK  |  | 
| liverpool  | Windows Server 2003 R2 (32-bit) / x64  |  OK  |  OK  |  OK  | 
| gewurz  | Windows Server 2008 R2 Enterprise (64-bit) / x64  |  OK  |  OK  | [ OK ] | 
| pelham  | Mac OS X Leopard (10.5.8) / i386  |  OK  |  WARNINGS  |  OK  | 
* installing *source* package 'affyILM' ...
   **********************************************
   WARNING: this package has a configure script
         It probably needs manual configuration
   **********************************************
** libs
  making DLL ...
x86_64-w64-mingw32-gcc -I"D:/biocbld/bbs-2.6-bioc/R/include"      -ID:/biocbld/bbs-2.6-bioc/R/src/include -IC:/GSL_test64/include   -O2 -Wall  -std=gnu99 -c affyilm.c -o affyilm.o
x86_64-w64-mingw32-gcc -I"D:/biocbld/bbs-2.6-bioc/R/include"      -ID:/biocbld/bbs-2.6-bioc/R/src/include -IC:/GSL_test64/include   -O2 -Wall  -std=gnu99 -c enval.c -o enval.o
x86_64-w64-mingw32-gcc -I"D:/biocbld/bbs-2.6-bioc/R/include"      -ID:/biocbld/bbs-2.6-bioc/R/src/include -IC:/GSL_test64/include   -O2 -Wall  -std=gnu99 -c get_backg.c -o get_backg.o
x86_64-w64-mingw32-gcc -I"D:/biocbld/bbs-2.6-bioc/R/include"      -ID:/biocbld/bbs-2.6-bioc/R/src/include -IC:/GSL_test64/include   -O2 -Wall  -std=gnu99 -c init.c -o init.o
x86_64-w64-mingw32-gcc -I"D:/biocbld/bbs-2.6-bioc/R/include"      -ID:/biocbld/bbs-2.6-bioc/R/src/include -IC:/GSL_test64/include   -O2 -Wall  -std=gnu99 -c multAB.c -o multAB.o
x86_64-w64-mingw32-gcc -I"D:/biocbld/bbs-2.6-bioc/R/include"      -ID:/biocbld/bbs-2.6-bioc/R/src/include -IC:/GSL_test64/include   -O2 -Wall  -std=gnu99 -c multXty.c -o multXty.o
x86_64-w64-mingw32-gcc -I"D:/biocbld/bbs-2.6-bioc/R/include"      -ID:/biocbld/bbs-2.6-bioc/R/src/include -IC:/GSL_test64/include   -O2 -Wall  -std=gnu99 -c points.c -o points.o
x86_64-w64-mingw32-gcc -shared -s -static-libgcc -o affyILM.dll tmp.def affyilm.o enval.o get_backg.o init.o multAB.o multXty.o points.o -LC:/GSL_test64/lib -lgsl -lgslcblas -lm -LD:/biocbld/bbs-2.6-bioc/R/bin -lR
installing to D:/biocbld/bbs-2.6-bioc/meat/affyILM.buildbin-libdir/affyILM/libs/x64
  ... done
** R
** inst
** preparing package for lazy loading
Loading required package: Biobase
Welcome to Bioconductor
  Vignettes contain introductory material. To view, type
  'openVignette()'. To cite Bioconductor, see
  'citation("Biobase")' and for packages 'citation(pkgname)'.
** help
*** installing help indices
** building package indices ...
** testing if installed package can be loaded
* MD5 sums
packaged installation of 'affyILM' as affyILM_1.0.0.zip
* DONE (affyILM)