RMAGEML 2.22.0 Steffen Durinck
 | Snapshot Date: 2010-10-04 11:22:20 -0700 (Mon, 04 Oct 2010) |  | URL: https://hedgehog.fhcrc.org/bioconductor/branches/RELEASE_2_6/madman/Rpacks/RMAGEML |  | Last Changed Rev: 46401 / Revision: 49923 |  | Last Changed Date: 2010-04-22 11:21:23 -0700 (Thu, 22 Apr 2010) |  
  | wilson1  | Linux (openSUSE 11.1) / x86_64  | [ OK ] |  OK  |  | 
| liverpool  | Windows Server 2003 R2 (32-bit) / x64  | N O T   S U P P O R T E D | 
| gewurz  | Windows Server 2008 R2 Enterprise (64-bit) / x64  | N O T   S U P P O R T E D | 
| pelham  | Mac OS X Leopard (10.5.8) / i386  | N O T   S U P P O R T E D | 
* checking for file 'RMAGEML/DESCRIPTION' ... OK
* preparing 'RMAGEML':
* checking DESCRIPTION meta-information ... OK
* cleaning src
* installing the package to re-build vignettes
* installing *source* package 'RMAGEML' ...
configure: creating ./config.status
config.status: creating src/Makevars
** libs
gcc -std=gnu99 -I/home/biocbuild/bbs-2.6-bioc/R/include -I/usr/lib64/jvm/java/include -I/usr/lib64/jvm/java/include/linux  -I/usr/local/include    -fpic  -g -O2 -c rmageml.c -o rmageml.o
rmageml.c: In function 'updateMAGEML':
rmageml.c:599: warning: cast from pointer to integer of different size
gcc -std=gnu99 -shared -L/usr/local/lib64 -o RMAGEML.so rmageml.o -L/usr/lib64/jvm/java/jre/lib/amd64 -L/usr/lib64/jvm/java/jre/lib/i386 -ljava -L/usr/lib64/jvm/java/jre/lib/amd64/server -L/usr/lib64/jvm/java/jre/lib/i386/client -ljvm -L/home/biocbuild/bbs-2.6-bioc/R/lib -lR
installing to /tmp/Rinst1824262275/RMAGEML/libs
** R
** inst
** preparing package for lazy loading
Loading required package: limma
Welcome to Bioconductor
  Vignettes contain introductory material. To view, type
  'openVignette()'. To cite Bioconductor, see
  'citation("Biobase")' and for packages 'citation(pkgname)'.
** help
*** installing help indices
** building package indices ...
** testing if installed package can be loaded
* DONE (RMAGEML)
* creating vignettes ... OK
* cleaning src
make: Nothing to be done for `clean'.
* removing junk files
* checking for LF line-endings in source and make files
* checking for empty or unneeded directories
* building 'RMAGEML_2.22.0.tar.gz'