KCsmart 2.6.0 Jorma de Ronde
 | Snapshot Date: 2010-10-04 11:22:20 -0700 (Mon, 04 Oct 2010) |  | URL: https://hedgehog.fhcrc.org/bioconductor/branches/RELEASE_2_6/madman/Rpacks/KCsmart |  | Last Changed Rev: 46401 / Revision: 49923 |  | Last Changed Date: 2010-04-22 11:21:23 -0700 (Thu, 22 Apr 2010) |  
  | wilson1  | Linux (openSUSE 11.1) / x86_64  |  OK  |  OK  |  | 
| liverpool  | Windows Server 2003 R2 (32-bit) / x64  |  OK  |  OK  |  OK  | 
| gewurz  | Windows Server 2008 R2 Enterprise (64-bit) / x64  |  OK  |  OK  |  OK  | 
| pelham  | Mac OS X Leopard (10.5.8) / i386  |  OK  |  OK  | [ OK ] | 
                INSTALLATION WITH 'R CMD INSTALL --preclean --library=KCsmart.buildbin-libdir KCsmart_2.6.0.tar.gz'
* installing *source* package ‘KCsmart’ ...
** R
** data
** inst
** preparing package for lazy loading
Loading required package: multtest
Loading required package: Biobase
Welcome to Bioconductor
  Vignettes contain introductory material. To view, type
  'openVignette()'. To cite Bioconductor, see
  'citation("Biobase")' and for packages 'citation(pkgname)'.
Loading required package: splines
Creating a new generic function for "sort" in "KCsmart"
Creating a new generic function for "unlist" in "KCsmart"
Creating a new generic function for "write.table" in "KCsmart"
** help
*** installing help indices
** building package indices ...
** testing if installed package can be loaded
* DONE (KCsmart)