HilbertVis 1.6.0 Simon Anders
 | Snapshot Date: 2010-10-04 11:22:20 -0700 (Mon, 04 Oct 2010) |  | URL: https://hedgehog.fhcrc.org/bioconductor/branches/RELEASE_2_6/madman/Rpacks/HilbertVis |  | Last Changed Rev: 46401 / Revision: 49923 |  | Last Changed Date: 2010-04-22 11:21:23 -0700 (Thu, 22 Apr 2010) |  
  | wilson1  | Linux (openSUSE 11.1) / x86_64  | [ OK ] |  OK  |  | 
| liverpool  | Windows Server 2003 R2 (32-bit) / x64  |  OK  |  OK  |  OK  | 
| gewurz  | Windows Server 2008 R2 Enterprise (64-bit) / x64  | N O T   S U P P O R T E D | 
| pelham  | Mac OS X Leopard (10.5.8) / i386  |  OK  |  ERROR  |  OK  | 
* checking for file 'HilbertVis/DESCRIPTION' ... OK
* preparing 'HilbertVis':
* checking DESCRIPTION meta-information ... OK
* cleaning src
* installing the package to re-build vignettes
* installing *source* package 'HilbertVis' ...
** libs
gcc -std=gnu99 -I/home/biocbuild/bbs-2.6-bioc/R/include  -I/usr/local/include    -fpic  -g -O2 -c hilbert.c -o hilbert.o
gcc -std=gnu99 -I/home/biocbuild/bbs-2.6-bioc/R/include  -I/usr/local/include    -fpic  -g -O2 -c make_wiggle_vector.c -o make_wiggle_vector.o
gcc -std=gnu99 -I/home/biocbuild/bbs-2.6-bioc/R/include  -I/usr/local/include    -fpic  -g -O2 -c shrink_vector.c -o shrink_vector.o
gcc -std=gnu99 -shared -L/usr/local/lib64 -o HilbertVis.so hilbert.o make_wiggle_vector.o shrink_vector.o -L/home/biocbuild/bbs-2.6-bioc/R/lib -lR
installing to /tmp/Rinst2176219510/HilbertVis/libs
** R
** inst
** preparing package for lazy loading
** help
*** installing help indices
** building package indices ...
** testing if installed package can be loaded
* DONE (HilbertVis)
* creating vignettes ... OK
* cleaning src
* removing junk files
* checking for LF line-endings in source and make files
* checking for empty or unneeded directories
* building 'HilbertVis_1.6.0.tar.gz'