GenomicFeatures 1.0.10 Biocore Team c/o BioC user list
 | Snapshot Date: 2010-10-04 11:22:20 -0700 (Mon, 04 Oct 2010) |  | URL: https://hedgehog.fhcrc.org/bioconductor/branches/RELEASE_2_6/madman/Rpacks/GenomicFeatures |  | Last Changed Rev: 48832 / Revision: 49923 |  | Last Changed Date: 2010-08-16 11:38:04 -0700 (Mon, 16 Aug 2010) |  
  | wilson1  | Linux (openSUSE 11.1) / x86_64  |  OK  |  ERROR  |  | 
| liverpool  | Windows Server 2003 R2 (32-bit) / x64  |  OK  |  ERROR  |  OK  | 
| gewurz  | Windows Server 2008 R2 Enterprise (64-bit) / x64  |  OK  |  ERROR  |  OK  | 
| pelham  | Mac OS X Leopard (10.5.8) / i386  |  OK  |  ERROR  | [ OK ] | 
                INSTALLATION WITH 'R CMD INSTALL --preclean --library=GenomicFeatures.buildbin-libdir GenomicFeatures_1.0.10.tar.gz'
* installing *source* package ‘GenomicFeatures’ ...
** R
** inst
** preparing package for lazy loading
Attaching package: 'IRanges'
The following object(s) are masked from 'package:base':
    Map, cbind, mapply, order, paste, pmax, pmax.int, pmin, pmin.int,
    rbind, rep.int, table
** help
*** installing help indices
** building package indices ...
** testing if installed package can be loaded
* DONE (GenomicFeatures)