GeneticsPed 1.10.0 David Henderson
 | Snapshot Date: 2010-10-04 11:22:20 -0700 (Mon, 04 Oct 2010) |  | URL: https://hedgehog.fhcrc.org/bioconductor/branches/RELEASE_2_6/madman/Rpacks/GeneticsPed |  | Last Changed Rev: 46401 / Revision: 49923 |  | Last Changed Date: 2010-04-22 11:21:23 -0700 (Thu, 22 Apr 2010) |  
  | wilson1  | Linux (openSUSE 11.1) / x86_64  |  OK  |  OK  |  | 
| liverpool  | Windows Server 2003 R2 (32-bit) / x64  |  OK  |  OK  | [ OK ] | 
| gewurz  | Windows Server 2008 R2 Enterprise (64-bit) / x64  |  OK  |  OK  |  OK  | 
| pelham  | Mac OS X Leopard (10.5.8) / i386  |  OK  |  OK  |  OK  | 
* installing *source* package 'GeneticsPed' ...
** libs
  making DLL ...
g++ -I"E:/biocbld/bbs-2.6-bioc/R/include"         -O2 -Wall  -c ainverse.cc -o ainverse.o
g++ -I"E:/biocbld/bbs-2.6-bioc/R/include"         -O2 -Wall  -c eibd.cc -o eibd.o
gfortran     -O3  -c ggmatmult.f -o ggmatmult.o
gfortran     -O3  -c gpi.f -o gpi.o
g++ -I"E:/biocbld/bbs-2.6-bioc/R/include"         -O2 -Wall  -c inbreed.cc -o inbreed.o
g++ -I"E:/biocbld/bbs-2.6-bioc/R/include"         -O2 -Wall  -c inverseAdditive.cc -o inverseAdditive.o
g++ -I"E:/biocbld/bbs-2.6-bioc/R/include"         -O2 -Wall  -c meuwissen.cc -o meuwissen.o
g++ -I"E:/biocbld/bbs-2.6-bioc/R/include"         -O2 -Wall  -c pedSort.cc -o pedSort.o
g++ -I"E:/biocbld/bbs-2.6-bioc/R/include"         -O2 -Wall  -c pedtemplate.cc -o pedtemplate.o
g++ -I"E:/biocbld/bbs-2.6-bioc/R/include"         -O2 -Wall  -c register.cc -o register.o
gcc -I"E:/biocbld/bbs-2.6-bioc/R/include"         -O3 -Wall  -std=gnu99 -c sargolzaei.c -o sargolzaei.o
g++ -I"E:/biocbld/bbs-2.6-bioc/R/include"         -O2 -Wall  -c sortped.cc -o sortped.o
g++ -shared -s -static-libgcc -o GeneticsPed.dll tmp.def ainverse.o eibd.o ggmatmult.o gpi.o inbreed.o inverseAdditive.o meuwissen.o pedSort.o pedtemplate.o register.o sargolzaei.o sortped.o -lgfortran -LE:/biocbld/bbs-2.6-bioc/R/bin -lR
installing to E:/biocbld/bbs-2.6-bioc/meat/GeneticsPed.buildbin-libdir/GeneticsPed/libs
  ... done
** R
** data
** inst
** preparing package for lazy loading
gdata: read.xls support for 'XLS' (Excel 97-2004) files ENABLED.
gdata: Unable to load perl libaries needed by read.xls()
gdata: to support 'XLSX' (Excel 2007+) files.
gdata: Run the function 'installXLSXsupport()'
gdata: to automatically download and install the perl
gdata: libaries needed to support Excel XLS and XLSX formats.
Attaching package: 'gdata'
The following object(s) are masked from 'package:utils':
    object.size
Loading required package: combinat
Attaching package: 'combinat'
The following object(s) are masked from 'package:utils':
    combn
Loading required package: gtools
Loading required package: MASS
Loading required package: mvtnorm
NOTE: THIS PACKAGE IS NOW OBSOLETE.
  The R-Genetics project has developed an set of enhanced genetics
  packages to replace 'genetics'. Please visit the project homepage
  at http://rgenetics.org for informtion.
Attaching package: 'genetics'
The following object(s) are masked from 'package:base':
    %in%, as.factor, order
** help
*** installing help indices
** building package indices ...
** testing if installed package can be loaded
* MD5 sums
packaged installation of 'GeneticsPed' as GeneticsPed_1.10.0.zip
* DONE (GeneticsPed)