DNAcopy 1.22.1 Venkatraman E. Seshan
 | Snapshot Date: 2010-10-04 11:22:20 -0700 (Mon, 04 Oct 2010) |  | URL: https://hedgehog.fhcrc.org/bioconductor/branches/RELEASE_2_6/madman/Rpacks/DNAcopy |  | Last Changed Rev: 46873 / Revision: 49923 |  | Last Changed Date: 2010-05-14 13:34:58 -0700 (Fri, 14 May 2010) |  
  | wilson1  | Linux (openSUSE 11.1) / x86_64  |  OK  |  OK  |  | 
| liverpool  | Windows Server 2003 R2 (32-bit) / x64  |  OK  |  OK  | [ OK ] | 
| gewurz  | Windows Server 2008 R2 Enterprise (64-bit) / x64  |  OK  |  OK  |  OK  | 
| pelham  | Mac OS X Leopard (10.5.8) / i386  |  OK  |  OK  |  OK  | 
* installing *source* package 'DNAcopy' ...
** libs
  making DLL ...
gfortran     -O3  -c cbsWtstats.f -o cbsWtstats.o
gfortran     -O3  -c cbststats.f -o cbststats.o
gfortran     -O3  -c changepoints-wtd.f -o changepoints-wtd.o
gfortran     -O3  -c changepoints.f -o changepoints.o
gfortran     -O3  -c esegment.f -o esegment.o
gcc -I"E:/biocbld/bbs-2.6-bioc/R/include"         -O3 -Wall  -std=gnu99 -c flchoose.c -o flchoose.o
gcc -I"E:/biocbld/bbs-2.6-bioc/R/include"         -O3 -Wall  -std=gnu99 -c fphyper.c -o fphyper.o
gcc -I"E:/biocbld/bbs-2.6-bioc/R/include"         -O3 -Wall  -std=gnu99 -c fpnorm.c -o fpnorm.o
gfortran     -O3  -c getbdry.f -o getbdry.o
gfortran     -O3  -c prune.f -o prune.o
gcc -I"E:/biocbld/bbs-2.6-bioc/R/include"         -O3 -Wall  -std=gnu99 -c rshared.c -o rshared.o
gfortran     -O3  -c segmentp.f -o segmentp.o
gfortran     -O3  -c smoothCNA.f -o smoothCNA.o
gfortran     -O3  -c tailprobs.f -o tailprobs.o
gcc -shared -s -static-libgcc -o DNAcopy.dll tmp.def cbsWtstats.o cbststats.o changepoints-wtd.o changepoints.o esegment.o flchoose.o fphyper.o fpnorm.o getbdry.o prune.o rshared.o segmentp.o smoothCNA.o tailprobs.o -lgfortran -LE:/biocbld/bbs-2.6-bioc/R/bin -lR
installing to E:/biocbld/bbs-2.6-bioc/meat/DNAcopy.buildbin-libdir/DNAcopy/libs
  ... done
** R
** data
**  moving datasets to lazyload DB
** demo
** inst
** preparing package for lazy loading
** help
*** installing help indices
** building package indices ...
** testing if installed package can be loaded
* MD5 sums
packaged installation of 'DNAcopy' as DNAcopy_1.22.1.zip
* DONE (DNAcopy)