DESeq 1.0.6 Simon Anders
 | Snapshot Date: 2010-10-04 11:22:20 -0700 (Mon, 04 Oct 2010) |  | URL: https://hedgehog.fhcrc.org/bioconductor/branches/RELEASE_2_6/madman/Rpacks/DESeq |  | Last Changed Rev: 49240 / Revision: 49923 |  | Last Changed Date: 2010-09-06 05:18:28 -0700 (Mon, 06 Sep 2010) |  
  | wilson1  | Linux (openSUSE 11.1) / x86_64  |  OK  |  WARNINGS  |  | 
| liverpool  | Windows Server 2003 R2 (32-bit) / x64  |  OK  |  WARNINGS  |  OK  | 
| gewurz  | Windows Server 2008 R2 Enterprise (64-bit) / x64  |  OK  |  WARNINGS  | [ OK ] | 
| pelham  | Mac OS X Leopard (10.5.8) / i386  |  OK  |  WARNINGS  |  OK  | 
* installing *source* package 'DESeq' ...
** libs
  making DLL ...
x86_64-w64-mingw32-gcc -I"D:/biocbld/bbs-2.6-bioc/R/include"         -O2 -Wall  -std=gnu99 -c pval.c -o pval.o
x86_64-w64-mingw32-gcc -shared -s -static-libgcc -o DESeq.dll tmp.def pval.o -LD:/biocbld/bbs-2.6-bioc/R/bin -lR
installing to D:/biocbld/bbs-2.6-bioc/meat/DESeq.buildbin-libdir/DESeq/libs/x64
  ... done
** R
** inst
** preparing package for lazy loading
Welcome to Bioconductor
  Vignettes contain introductory material. To view, type
  'openVignette()'. To cite Bioconductor, see
  'citation("Biobase")' and for packages 'citation(pkgname)'.
Loading required package: akima
Loading required package: lattice
locfit 1.5-6 	 2010-01-20 
** help
*** installing help indices
** building package indices ...
** testing if installed package can be loaded
* MD5 sums
packaged installation of 'DESeq' as DESeq_1.0.6.zip
* DONE (DESeq)