DAVIDQuery 1.8.1 Roger Day
 | Snapshot Date: 2010-10-04 11:22:20 -0700 (Mon, 04 Oct 2010) |  | URL: https://hedgehog.fhcrc.org/bioconductor/branches/RELEASE_2_6/madman/Rpacks/DAVIDQuery |  | Last Changed Rev: 47464 / Revision: 49923 |  | Last Changed Date: 2010-06-14 20:16:02 -0700 (Mon, 14 Jun 2010) |  
  | wilson1  | Linux (openSUSE 11.1) / x86_64  |  OK  |  OK  |  | 
| liverpool  | Windows Server 2003 R2 (32-bit) / x64  |  OK  |  OK  | [ OK ] | 
| gewurz  | Windows Server 2008 R2 Enterprise (64-bit) / x64  |  OK  |  OK  |  OK  | 
| pelham  | Mac OS X Leopard (10.5.8) / i386  |  OK  |  OK  |  OK  | 
* installing *source* package 'DAVIDQuery' ...
** R
** inst
** preparing package for lazy loading
Loading required package: bitops
** help
*** installing help indices
** building package indices ...
** testing if installed package can be loaded
This is DAVIDQuery Version  1.8.1   2010-06-11 
* MD5 sums
packaged installation of 'DAVIDQuery' as DAVIDQuery_1.8.1.zip
* DONE (DAVIDQuery)