CNVtools 1.42.0 Chris Barnes
 | Snapshot Date: 2010-10-04 11:22:20 -0700 (Mon, 04 Oct 2010) |  | URL: https://hedgehog.fhcrc.org/bioconductor/branches/RELEASE_2_6/madman/Rpacks/CNVtools |  | Last Changed Rev: 46401 / Revision: 49923 |  | Last Changed Date: 2010-04-22 11:21:23 -0700 (Thu, 22 Apr 2010) |  
  | wilson1  | Linux (openSUSE 11.1) / x86_64  |  OK  |  OK  |  | 
| liverpool  | Windows Server 2003 R2 (32-bit) / x64  |  OK  |  OK  |  OK  | 
| gewurz  | Windows Server 2008 R2 Enterprise (64-bit) / x64  | [ OK ] |  OK  |  OK  | 
| pelham  | Mac OS X Leopard (10.5.8) / i386  |  OK  |  OK  |  OK  | 
* checking for file 'CNVtools/DESCRIPTION' ... OK
* preparing 'CNVtools':
* checking DESCRIPTION meta-information ... OK
* cleaning src
* installing the package to re-build vignettes
* installing *source* package 'CNVtools' ...
** libs
  making DLL ...
x86_64-w64-mingw32-g++ -I"D:/biocbld/bbs-2.6-bioc/R/include"         -O2 -Wall  -c fitmodel.cpp -o fitmodel.o
x86_64-w64-mingw32-g++ -I"D:/biocbld/bbs-2.6-bioc/R/include"         -O2 -Wall  -c glm_test.cpp -o glm_test.o
x86_64-w64-mingw32-g++ -I"D:/biocbld/bbs-2.6-bioc/R/include"         -O2 -Wall  -c mla.cpp -o mla.o
x86_64-w64-mingw32-g++ -I"D:/biocbld/bbs-2.6-bioc/R/include"         -O2 -Wall  -c routine.cpp -o routine.o
x86_64-w64-mingw32-gcc -I"D:/biocbld/bbs-2.6-bioc/R/include"         -O2 -Wall  -std=gnu99 -c zeroin.c -o zeroin.o
x86_64-w64-mingw32-g++ -shared -s -static-libgcc -o CNVtools.dll tmp.def fitmodel.o glm_test.o mla.o routine.o zeroin.o -LD:/biocbld/bbs-2.6-bioc/R/bin -lR
installing to D:/biocbld/bbs-2.6-bioc/tmpdir/Rinst359660009/CNVtools/libs/x64
  ... done
** R
** data
** inst
** preparing package for lazy loading
Loading required package: splines
** help
*** installing help indices
** building package indices ...
** testing if installed package can be loaded
* DONE (CNVtools)
* creating vignettes ... OK
* cleaning src
* removing junk files
* checking for LF line-endings in source and make files
* checking for empty or unneeded directories
* building 'CNVtools_1.42.0.tar.gz'