CALIB 1.14.0 Hui Zhao
 | Snapshot Date: 2010-10-04 11:22:20 -0700 (Mon, 04 Oct 2010) |  | URL: https://hedgehog.fhcrc.org/bioconductor/branches/RELEASE_2_6/madman/Rpacks/CALIB |  | Last Changed Rev: 46401 / Revision: 49923 |  | Last Changed Date: 2010-04-22 11:21:23 -0700 (Thu, 22 Apr 2010) |  
  | wilson1  | Linux (openSUSE 11.1) / x86_64  |  OK  |  OK  |  | 
| liverpool  | Windows Server 2003 R2 (32-bit) / x64  | [ OK ] |  OK  |  OK  | 
| gewurz  | Windows Server 2008 R2 Enterprise (64-bit) / x64  |  OK  |  OK  |  OK  | 
| pelham  | Mac OS X Leopard (10.5.8) / i386  |  OK  |  OK  |  OK  | 
* checking for file 'CALIB/DESCRIPTION' ... OK
* preparing 'CALIB':
* checking DESCRIPTION meta-information ... OK
* cleaning src
* installing the package to re-build vignettes
* installing *source* package 'CALIB' ...
** libs
  making DLL ...
g++ -I"E:/biocbld/bbs-2.6-bioc/R/include"         -O2 -Wall  -c Design.cpp -o Design.o
g++ -I"E:/biocbld/bbs-2.6-bioc/R/include"         -O2 -Wall  -c Estimation.cpp -o Estimation.o
Estimation.cpp: In function 'SEXPREC* estimation(SEXPREC*, SEXPREC*, SEXPREC*, SEXPREC*, SEXPREC*, SEXPREC*, SEXPREC*, SEXPREC*)':
Estimation.cpp:144: warning: deprecated conversion from string constant to 'char*'
Estimation.cpp:144: warning: deprecated conversion from string constant to 'char*'
Estimation.cpp:144: warning: deprecated conversion from string constant to 'char*'
Estimation.cpp:144: warning: deprecated conversion from string constant to 'char*'
Estimation.cpp:144: warning: deprecated conversion from string constant to 'char*'
Estimation.cpp:144: warning: deprecated conversion from string constant to 'char*'
Estimation.cpp:144: warning: deprecated conversion from string constant to 'char*'
Estimation.cpp:144: warning: deprecated conversion from string constant to 'char*'
g++ -I"E:/biocbld/bbs-2.6-bioc/R/include"         -O2 -Wall  -c NormalizedData.cpp -o NormalizedData.o
g++ -I"E:/biocbld/bbs-2.6-bioc/R/include"         -O2 -Wall  -c ParameterofOneArray.cpp -o ParameterofOneArray.o
g++ -I"E:/biocbld/bbs-2.6-bioc/R/include"         -O2 -Wall  -c RawDataofOneArray.cpp -o RawDataofOneArray.o
g++ -I"E:/biocbld/bbs-2.6-bioc/R/include"         -O2 -Wall  -c SpikeofOneArray.cpp -o SpikeofOneArray.o
g++ -shared -s -static-libgcc -o CALIB.dll tmp.def Design.o Estimation.o NormalizedData.o ParameterofOneArray.o RawDataofOneArray.o SpikeofOneArray.o -LE:/biocbld/bbs-2.6-bioc/R/bin -lR
installing to E:/biocbld/bbs-2.6-bioc/tmpdir/Rinst421618267/CALIB/libs
  ... done
** R
** data
** inst
** preparing package for lazy loading
** help
*** installing help indices
** building package indices ...
** testing if installed package can be loaded
* DONE (CALIB)
* creating vignettes ... OK
* cleaning src
* removing junk files
* checking for LF line-endings in source and make files
* checking for empty or unneeded directories
* building 'CALIB_1.14.0.tar.gz'