BeadDataPackR 1.0.1 Mike Smith
 | Snapshot Date: 2010-10-04 11:22:20 -0700 (Mon, 04 Oct 2010) |  | URL: https://hedgehog.fhcrc.org/bioconductor/branches/RELEASE_2_6/madman/Rpacks/BeadDataPackR |  | Last Changed Rev: 48681 / Revision: 49923 |  | Last Changed Date: 2010-08-05 06:02:43 -0700 (Thu, 05 Aug 2010) |  
  | wilson1  | Linux (openSUSE 11.1) / x86_64  |  OK  |  OK  |  | 
| liverpool  | Windows Server 2003 R2 (32-bit) / x64  | [ OK ] |  OK  |  OK  | 
| gewurz  | Windows Server 2008 R2 Enterprise (64-bit) / x64  |  OK  |  OK  |  OK  | 
| pelham  | Mac OS X Leopard (10.5.8) / i386  |  OK  |  OK  |  OK  | 
* checking for file 'BeadDataPackR/DESCRIPTION' ... OK
* preparing 'BeadDataPackR':
* checking DESCRIPTION meta-information ... OK
* cleaning src
* installing the package to re-build vignettes
* installing *source* package 'BeadDataPackR' ...
** libs
  making DLL ...
gcc -I"E:/biocbld/bbs-2.6-bioc/R/include"         -O3 -Wall  -std=gnu99 -c BeadDataPackR.c -o BeadDataPackR.o
gcc -I"E:/biocbld/bbs-2.6-bioc/R/include"         -O3 -Wall  -std=gnu99 -c R_init_BeadDataPackR.c -o R_init_BeadDataPackR.o
gcc -shared -s -static-libgcc -o BeadDataPackR.dll tmp.def BeadDataPackR.o R_init_BeadDataPackR.o -LE:/biocbld/bbs-2.6-bioc/R/bin -lR
installing to E:/biocbld/bbs-2.6-bioc/tmpdir/Rinst642439132/BeadDataPackR/libs
  ... done
** R
** data
** inst
** preparing package for lazy loading
** help
*** installing help indices
** building package indices ...
** testing if installed package can be loaded
* DONE (BeadDataPackR)
* creating vignettes ... OK
* cleaning src
* removing junk files
* checking for LF line-endings in source and make files
* checking for empty or unneeded directories
* building 'BeadDataPackR_1.0.1.tar.gz'