BayesPeak 1.0.1 Jonathan Cairns
 | Snapshot Date: 2010-10-04 11:22:20 -0700 (Mon, 04 Oct 2010) |  | URL: https://hedgehog.fhcrc.org/bioconductor/branches/RELEASE_2_6/madman/Rpacks/BayesPeak |  | Last Changed Rev: 49592 / Revision: 49923 |  | Last Changed Date: 2010-09-24 06:18:30 -0700 (Fri, 24 Sep 2010) |  
  | wilson1  | Linux (openSUSE 11.1) / x86_64  | [ OK ] |  OK  |  | 
| liverpool  | Windows Server 2003 R2 (32-bit) / x64  |  OK  |  OK  |  OK  | 
| gewurz  | Windows Server 2008 R2 Enterprise (64-bit) / x64  |  OK  |  OK  |  OK  | 
| pelham  | Mac OS X Leopard (10.5.8) / i386  |  OK  |  OK  |  OK  | 
* checking for file 'BayesPeak/DESCRIPTION' ... OK
* preparing 'BayesPeak':
* checking DESCRIPTION meta-information ... OK
* cleaning src
* installing the package to re-build vignettes
* installing *source* package 'BayesPeak' ...
** libs
gcc -std=gnu99 -I/home/biocbuild/bbs-2.6-bioc/R/include  -I/usr/local/include    -fpic  -g -O2 -c bayespeak.c -o bayespeak.o
gcc -std=gnu99 -shared -L/usr/local/lib64 -o BayesPeak.so bayespeak.o -L/home/biocbuild/bbs-2.6-bioc/R/lib -lR
installing to /tmp/Rinst2779154740/BayesPeak/libs
** R
** data
** inst
** preparing package for lazy loading
Attaching package: 'IRanges'
The following object(s) are masked from 'package:base':
    Map, cbind, mapply, order, paste, pmax, pmax.int, pmin, pmin.int,
    rbind, rep.int, table
** help
*** installing help indices
** building package indices ...
** testing if installed package can be loaded
* DONE (BayesPeak)
* creating vignettes ... OK
* cleaning src
* removing junk files
* checking for LF line-endings in source and make files
* checking for empty or unneeded directories
* building 'BayesPeak_1.0.1.tar.gz'