| Back to the "Multiple platform build/check report" | A B C D E F G H I J K L M N O [P] Q R S T U V W X Y Z |
| Package 244/354 | Hostname | OS / Arch | BUILD | CHECK | BUILD BIN | |||||
| parody 1.5.0 VJ Carey
| wilson1 | Linux (openSUSE 11.1) / x86_64 | OK | OK | ||||||
| liverpool | Windows Server 2003 R2 (32-bit) / x64 | OK | OK | OK | ||||||
| pitt | Mac OS X Tiger (10.4.11) / i386 | OK | OK | [ OK ] | ||||||
| pelham | Mac OS X Leopard (10.5.8) / i386 | OK | OK | OK |
| Package: parody |
| Version: 1.5.0 |
| Command: /Users/biocbuild/BBS/utils/build-universal.sh parody_1.5.0.tar.gz /Library/Frameworks/R.framework/Versions/2.11/Resources/bin/R parody.buildbin-libdir |
| StartedAt: 2009-12-07 19:45:27 -0800 (Mon, 07 Dec 2009) |
| EndedAt: 2009-12-07 19:45:30 -0800 (Mon, 07 Dec 2009) |
| EllapsedTime: 3.0 seconds |
| RetCode: 0 |
| Status: OK |
| PackageFile: parody_1.5.0.tgz |
| PackageFileSize: 98.38 KiB |
INSTALLATION WITH 'R CMD INSTALL --preclean --library=parody.buildbin-libdir parody_1.5.0.tar.gz'
* installing *source* package ‘parody’ ...
** R
** data
** inst
** preparing package for lazy loading
** help
*** installing help indices
** building package indices ...
* DONE (parody)