sigPathway 1.14.0 Weil Lai
 | Snapshot Date: 2009-12-13 23:30:35 -0800 (Sun, 13 Dec 2009) |  | URL: https://hedgehog.fhcrc.org/bioconductor/branches/RELEASE_2_5/madman/Rpacks/sigPathway |  | Last Changed Rev: 42684 / Revision: 43539 |  | Last Changed Date: 2009-10-27 16:33:29 -0700 (Tue, 27 Oct 2009) |  
  | wilson2  | Linux (openSUSE 11.1) / x86_64  |  OK  |  OK  |  | 
| liverpool  | Windows Server 2003 R2 (32-bit) / x64  |  OK  |  OK  | [ OK ] | 
| pitt  | Mac OS X Tiger (10.4.11) / i386  |  OK  |  OK  |  OK  | 
| pelham  | Mac OS X Leopard (10.5.8) / i386  |  OK  |  OK  |  OK  | 
* installing *source* package 'sigPathway' ...
  Using auto-selected zip option '--use-zip-data'
** libs
  making DLL ...
gcc -I"E:/biocbld/bbs-2.5-bioc/R/include"        -O3 -Wall  -std=gnu99 -c calc_gene_set_internal.c -o calc_gene_set_internal.o
gcc -I"E:/biocbld/bbs-2.5-bioc/R/include"        -O3 -Wall  -std=gnu99 -c calc_gene_set_stat.c -o calc_gene_set_stat.o
gcc -I"E:/biocbld/bbs-2.5-bioc/R/include"        -O3 -Wall  -std=gnu99 -c calc_probe_stat.c -o calc_probe_stat.o
gcc -I"E:/biocbld/bbs-2.5-bioc/R/include"        -O3 -Wall  -std=gnu99 -c calc_weights.c -o calc_weights.o
gcc -I"E:/biocbld/bbs-2.5-bioc/R/include"        -O3 -Wall  -std=gnu99 -c matrix_fn.c -o matrix_fn.o
gcc -I"E:/biocbld/bbs-2.5-bioc/R/include"        -O3 -Wall  -std=gnu99 -c permute.c -o permute.o
gcc -I"E:/biocbld/bbs-2.5-bioc/R/include"        -O3 -Wall  -std=gnu99 -c shuffle.c -o shuffle.o
gcc -I"E:/biocbld/bbs-2.5-bioc/R/include"        -O3 -Wall  -std=gnu99 -c sigPathway.c -o sigPathway.o
gcc -shared -s -o sigPathway.dll tmp.def calc_gene_set_internal.o calc_gene_set_stat.o calc_probe_stat.o calc_weights.o matrix_fn.o permute.o shuffle.o sigPathway.o -LE:/biocbld/bbs-2.5-bioc/R/bin -lRlapack -LE:/biocbld/bbs-2.5-bioc/R/bin -lRblas -lgfortran -LE:/biocbld/bbs-2.5-bioc/R/bin -lR
  ... done
** R
** data
** inst
** preparing package for lazy loading
** help
*** installing help indices
** building package indices ...
** MD5 sums
packaged installation of 'sigPathway' as sigPathway_1.14.0.zip
* DONE (sigPathway)