qpgraph 1.2.0 Robert Castelo
 | Snapshot Date: 2009-12-13 23:30:35 -0800 (Sun, 13 Dec 2009) |  | URL: https://hedgehog.fhcrc.org/bioconductor/branches/RELEASE_2_5/madman/Rpacks/qpgraph |  | Last Changed Rev: 42684 / Revision: 43539 |  | Last Changed Date: 2009-10-27 16:33:29 -0700 (Tue, 27 Oct 2009) |  
  | wilson2  | Linux (openSUSE 11.1) / x86_64  |  OK  |  OK  |  | 
| liverpool  | Windows Server 2003 R2 (32-bit) / x64  | [ OK ] |  OK  |  OK  | 
| pitt  | Mac OS X Tiger (10.4.11) / i386  |  OK  |  OK  |  OK  | 
| pelham  | Mac OS X Leopard (10.5.8) / i386  |  OK  |  OK  |  OK  | 
* checking for file 'qpgraph/DESCRIPTION' ... OK
* preparing 'qpgraph':
* checking DESCRIPTION meta-information ... OK
* cleaning src
make: Nothing to be done for `clean'.
* installing the package to re-build vignettes
* installing *source* package 'qpgraph' ...
   **********************************************
   WARNING: this package has a configure script
         It probably needs manual configuration
   **********************************************
** libs
  making DLL ...
gcc -I"e:/biocbld/bbs-2.5-bioc/R/include"        -O3 -Wall  -std=gnu99 -c cliquer.c -o cliquer.o
gcc -I"e:/biocbld/bbs-2.5-bioc/R/include"        -O3 -Wall  -std=gnu99 -c graph.c -o graph.o
gcc -I"e:/biocbld/bbs-2.5-bioc/R/include"        -O3 -Wall  -std=gnu99 -c qpgraph.c -o qpgraph.o
gcc -I"e:/biocbld/bbs-2.5-bioc/R/include"        -O3 -Wall  -std=gnu99 -c reorder.c -o reorder.o
gcc -shared -s -o qpgraph.dll tmp.def cliquer.o graph.o qpgraph.o reorder.o -Le:/biocbld/bbs-2.5-bioc/R/bin -lRlapack -Le:/biocbld/bbs-2.5-bioc/R/bin -lRblas -Le:/biocbld/bbs-2.5-bioc/R/bin -lR
  ... done
** R
** data
** inst
** preparing package for lazy loading
Welcome to Bioconductor
  Vignettes contain introductory material. To view, type
  'openVignette()'. To cite Bioconductor, see
  'citation("Biobase")' and for packages 'citation(pkgname)'.
** help
*** installing help indices
** building package indices ...
** MD5 sums
* DONE (qpgraph)
* creating vignettes ... OK
* cleaning src
make: Nothing to be done for `clean'.
* removing junk files
* checking for LF line-endings in source and make files
* checking for empty or unneeded directories
* building 'qpgraph_1.2.0.tar.gz'