pcaMethods 1.24.0 Wolfram Stacklies
 | Snapshot Date: 2009-12-13 23:30:35 -0800 (Sun, 13 Dec 2009) |  | URL: https://hedgehog.fhcrc.org/bioconductor/branches/RELEASE_2_5/madman/Rpacks/pcaMethods |  | Last Changed Rev: 42684 / Revision: 43539 |  | Last Changed Date: 2009-10-27 16:33:29 -0700 (Tue, 27 Oct 2009) |  
  | wilson2  | Linux (openSUSE 11.1) / x86_64  |  OK  |  OK  |  | 
| liverpool  | Windows Server 2003 R2 (32-bit) / x64  |  OK  |  OK  |  OK  | 
| pitt  | Mac OS X Tiger (10.4.11) / i386  |  OK  |  OK  | [ OK ] | 
| pelham  | Mac OS X Leopard (10.5.8) / i386  |  OK  |  OK  |  OK  | 
                INSTALLATION WITH 'R CMD INSTALL --preclean --library=pcaMethods.buildbin-libdir pcaMethods_1.24.0.tar.gz'
* installing *source* package ‘pcaMethods’ ...
** R
** data
** inst
** preparing package for lazy loading
Welcome to Bioconductor
  Vignettes contain introductory material. To view, type
  'openVignette()'. To cite Bioconductor, see
  'citation("Biobase")' and for packages 'citation(pkgname)'.
Attaching package: 'pls'
	The following object(s) are masked from package:stats :
	 loadings 
Creating a new generic function for "print" in "pcaMethods"
Creating a new generic function for "biplot" in "pcaMethods"
Creating a new generic function for "summary" in "pcaMethods"
Creating a new generic function for "fitted" in "pcaMethods"
** help
*** installing help indices
** building package indices ...
* DONE (pcaMethods)