oneChannelGUI 1.12.1 Raffaele A Calogero
 | Snapshot Date: 2009-12-13 23:30:35 -0800 (Sun, 13 Dec 2009) |  | URL: https://hedgehog.fhcrc.org/bioconductor/branches/RELEASE_2_5/madman/Rpacks/oneChannelGUI |  | Last Changed Rev: 42860 / Revision: 43539 |  | Last Changed Date: 2009-11-08 07:54:28 -0800 (Sun, 08 Nov 2009) |  
  | wilson2  | Linux (openSUSE 11.1) / x86_64  |  OK  |  OK  |  | 
| liverpool  | Windows Server 2003 R2 (32-bit) / x64  |  OK  |  OK  | [ OK ] | 
| pitt  | Mac OS X Tiger (10.4.11) / i386  |  OK  |  OK  |  OK  | 
| pelham  | Mac OS X Leopard (10.5.8) / i386  |  OK  |  OK  |  OK  | 
* installing *source* package 'oneChannelGUI' ...
  Using auto-selected zip option '--use-zip-data'
** R
** data
** inst
** preparing package for lazy loading
Welcome to Bioconductor
  Vignettes contain introductory material. To view, type
  'openVignette()'. To cite Bioconductor, see
  'citation("Biobase")' and for packages 'citation(pkgname)'.
Loading required package: limma
Loading required package: tcltk
Loading Tcl/Tk interface ... done
Loading required package: affy
Loading required package: affyio
Loading required package: widgetTools
Loading required package: DynDoc
Loading required package: tools
Loading required package: Category
Loading required package: AnnotationDbi
Loading required package: graph
Loading required package: DBI
** help
*** installing help indices
** building package indices ...
** MD5 sums
packaged installation of 'oneChannelGUI' as oneChannelGUI_1.12.1.zip
* DONE (oneChannelGUI)