multtest 2.2.0 Katherine S. Pollard
 | Snapshot Date: 2009-12-13 23:30:35 -0800 (Sun, 13 Dec 2009) |  | URL: https://hedgehog.fhcrc.org/bioconductor/branches/RELEASE_2_5/madman/Rpacks/multtest |  | Last Changed Rev: 42684 / Revision: 43539 |  | Last Changed Date: 2009-10-27 16:33:29 -0700 (Tue, 27 Oct 2009) |  
  | wilson2  | Linux (openSUSE 11.1) / x86_64  |  OK  |  OK  |  | 
| liverpool  | Windows Server 2003 R2 (32-bit) / x64  |  OK  |  OK  | [ OK ] | 
| pitt  | Mac OS X Tiger (10.4.11) / i386  |  OK  |  OK  |  OK  | 
| pelham  | Mac OS X Leopard (10.5.8) / i386  |  OK  |  OK  |  OK  | 
* installing *source* package 'multtest' ...
  Using auto-selected zip option '--use-zip-data'
** libs
  making DLL ...
gcc -I"E:/biocbld/bbs-2.5-bioc/R/include"     -DUSEDOUBLE -DWINDOWS   -O3 -Wall  -std=gnu99 -c Rpack.c -o Rpack.o
gcc -I"E:/biocbld/bbs-2.5-bioc/R/include"     -DUSEDOUBLE -DWINDOWS   -O3 -Wall  -std=gnu99 -c VScount.c -o VScount.o
gcc -I"E:/biocbld/bbs-2.5-bioc/R/include"     -DUSEDOUBLE -DWINDOWS   -O3 -Wall  -std=gnu99 -c block_sampling_fixed.c -o block_sampling_fixed.o
gcc -I"E:/biocbld/bbs-2.5-bioc/R/include"     -DUSEDOUBLE -DWINDOWS   -O3 -Wall  -std=gnu99 -c bootloop.c -o bootloop.o
gcc -I"E:/biocbld/bbs-2.5-bioc/R/include"     -DUSEDOUBLE -DWINDOWS   -O3 -Wall  -std=gnu99 -c mt.c -o mt.o
gcc -I"E:/biocbld/bbs-2.5-bioc/R/include"     -DUSEDOUBLE -DWINDOWS   -O3 -Wall  -std=gnu99 -c pairt_sampling.c -o pairt_sampling.o
gcc -I"E:/biocbld/bbs-2.5-bioc/R/include"     -DUSEDOUBLE -DWINDOWS   -O3 -Wall  -std=gnu99 -c pairt_sampling_fixed.c -o pairt_sampling_fixed.o
gcc -I"E:/biocbld/bbs-2.5-bioc/R/include"     -DUSEDOUBLE -DWINDOWS   -O3 -Wall  -std=gnu99 -c random.c -o random.o
gcc -I"E:/biocbld/bbs-2.5-bioc/R/include"     -DUSEDOUBLE -DWINDOWS   -O3 -Wall  -std=gnu99 -c sampling.c -o sampling.o
gcc -I"E:/biocbld/bbs-2.5-bioc/R/include"     -DUSEDOUBLE -DWINDOWS   -O3 -Wall  -std=gnu99 -c sampling_fixed.c -o sampling_fixed.o
gcc -I"E:/biocbld/bbs-2.5-bioc/R/include"     -DUSEDOUBLE -DWINDOWS   -O3 -Wall  -std=gnu99 -c stat_func.c -o stat_func.o
gcc -I"E:/biocbld/bbs-2.5-bioc/R/include"     -DUSEDOUBLE -DWINDOWS   -O3 -Wall  -std=gnu99 -c stat_order.c -o stat_order.o
gcc -shared -s -o multtest.dll tmp.def Rpack.o VScount.o block_sampling_fixed.o bootloop.o mt.o pairt_sampling.o pairt_sampling_fixed.o random.o sampling.o sampling_fixed.o stat_func.o stat_order.o -lm -LE:/biocbld/bbs-2.5-bioc/R/bin -lR
  ... done
** R
** data
** inst
** preparing package for lazy loading
Welcome to Bioconductor
  Vignettes contain introductory material. To view, type
  'openVignette()'. To cite Bioconductor, see
  'citation("Biobase")' and for packages 'citation(pkgname)'.
Creating a new generic function for "as.list" in "multtest"
** help
*** installing help indices
** building package indices ...
** MD5 sums
packaged installation of 'multtest' as multtest_2.2.0.zip
* DONE (multtest)