minet 1.8.0 Patrick E. Meyer
 | Snapshot Date: 2009-12-13 23:30:35 -0800 (Sun, 13 Dec 2009) |  | URL: https://hedgehog.fhcrc.org/bioconductor/branches/RELEASE_2_5/madman/Rpacks/minet |  | Last Changed Rev: 42684 / Revision: 43539 |  | Last Changed Date: 2009-10-27 16:33:29 -0700 (Tue, 27 Oct 2009) |  
  | wilson2  | Linux (openSUSE 11.1) / x86_64  |  OK  |  OK  |  | 
| liverpool  | Windows Server 2003 R2 (32-bit) / x64  | [ OK ] |  OK  |  OK  | 
| pitt  | Mac OS X Tiger (10.4.11) / i386  |  OK  |  OK  |  OK  | 
| pelham  | Mac OS X Leopard (10.5.8) / i386  |  OK  |  OK  |  OK  | 
* checking for file 'minet/DESCRIPTION' ... OK
* preparing 'minet':
* checking DESCRIPTION meta-information ... OK
* cleaning src
* installing the package to re-build vignettes
* installing *source* package 'minet' ...
** libs
  making DLL ...
g++ -I"e:/biocbld/bbs-2.5-bioc/R/include"        -O2 -Wall  -c aracne.cpp -o aracne.o
g++ -I"e:/biocbld/bbs-2.5-bioc/R/include"        -O2 -Wall  -c clr.cpp -o clr.o
g++ -I"e:/biocbld/bbs-2.5-bioc/R/include"        -O2 -Wall  -c disc.cpp -o disc.o
g++ -I"e:/biocbld/bbs-2.5-bioc/R/include"        -O2 -Wall  -c mim.cpp -o mim.o
mim.cpp: In function 'double minformation(const double*, int, int, int, int, char)':
mim.cpp:101: warning: 'Hij' may be used uninitialized in this function
mim.cpp:101: warning: 'Hj' may be used uninitialized in this function
mim.cpp:101: warning: 'Hi' may be used uninitialized in this function
g++ -I"e:/biocbld/bbs-2.5-bioc/R/include"        -O2 -Wall  -c minet.cpp -o minet.o
g++ -I"e:/biocbld/bbs-2.5-bioc/R/include"        -O2 -Wall  -c mrnet.cpp -o mrnet.o
g++ -I"e:/biocbld/bbs-2.5-bioc/R/include"        -O2 -Wall  -c symmetrize.cpp -o symmetrize.o
g++ -I"e:/biocbld/bbs-2.5-bioc/R/include"        -O2 -Wall  -c validate.cpp -o validate.o
g++ -shared -s -o minet.dll tmp.def aracne.o clr.o disc.o mim.o minet.o mrnet.o symmetrize.o validate.o -Le:/biocbld/bbs-2.5-bioc/R/bin -lR
  ... done
** R
** data
** demo
** inst
** preparing package for lazy loading
** help
*** installing help indices
** building package indices ...
** MD5 sums
* DONE (minet)
* creating vignettes ... OK
* cleaning src
* removing junk files
* checking for LF line-endings in source and make files
* checking for empty or unneeded directories
* building 'minet_1.8.0.tar.gz'