graph 1.24.1 Robert Gentleman
 | Snapshot Date: 2009-12-13 23:30:35 -0800 (Sun, 13 Dec 2009) |  | URL: https://hedgehog.fhcrc.org/bioconductor/branches/RELEASE_2_5/madman/Rpacks/graph |  | Last Changed Rev: 42862 / Revision: 43539 |  | Last Changed Date: 2009-11-08 09:29:33 -0800 (Sun, 08 Nov 2009) |  
  | wilson2  | Linux (openSUSE 11.1) / x86_64  |  OK  |  OK  |  | 
| liverpool  | Windows Server 2003 R2 (32-bit) / x64  |  OK  |  WARNINGS  | [ OK ] | 
| pitt  | Mac OS X Tiger (10.4.11) / i386  |  OK  |  OK  |  OK  | 
| pelham  | Mac OS X Leopard (10.5.8) / i386  |  OK  |  OK  |  OK  | 
* installing *source* package 'graph' ...
** libs
  making DLL ...
gcc -I"E:/biocbld/bbs-2.5-bioc/R/include"        -O3 -Wall  -std=gnu99 -c graph.c -o graph.o
gcc -shared -s -o graph.dll tmp.def graph.o -LE:/biocbld/bbs-2.5-bioc/R/bin -lR
mv graph.dll BioC_graph.dll
  ... done
** R
** data
** inst
** preparing package for lazy loading
** help
*** installing help indices
** building package indices ...
** MD5 sums
packaged installation of 'graph' as graph_1.24.1.zip
* DONE (graph)