globaltest 5.0.1 Jelle Goeman
 | Snapshot Date: 2009-12-13 23:30:35 -0800 (Sun, 13 Dec 2009) |  | URL: https://hedgehog.fhcrc.org/bioconductor/branches/RELEASE_2_5/madman/Rpacks/globaltest |  | Last Changed Rev: 43428 / Revision: 43539 |  | Last Changed Date: 2009-12-07 03:16:19 -0800 (Mon, 07 Dec 2009) |  
  | wilson2  | Linux (openSUSE 11.1) / x86_64  |  OK  |  OK  |  | 
| liverpool  | Windows Server 2003 R2 (32-bit) / x64  |  OK  |  OK  |  OK  | 
| pitt  | Mac OS X Tiger (10.4.11) / i386  |  OK  |  OK  |  OK  | 
| pelham  | Mac OS X Leopard (10.5.8) / i386  |  OK  |  OK  | [ OK ] | 
                INSTALLATION WITH 'R CMD INSTALL --preclean --library=globaltest.buildbin-libdir globaltest_5.0.1.tar.gz'
* installing *source* package ‘globaltest’ ...
** R
** data
** inst
** preparing package for lazy loading
Creating a new generic function for "sort" in "globaltest"
Creating a new generic function for "model.matrix" in "globaltest"
Creating a new generic function for "coefficients" in "globaltest"
Creating a new generic function for "fitted.values" in "globaltest"
Creating a new generic function for "residuals" in "globaltest"
** help
*** installing help indices
** building package indices ...
* DONE (globaltest)