flowUtils 1.6.0 Nishant Gopalakrishnan
 | Snapshot Date: 2009-12-13 23:30:35 -0800 (Sun, 13 Dec 2009) |  | URL: https://hedgehog.fhcrc.org/bioconductor/branches/RELEASE_2_5/madman/Rpacks/flowUtils |  | Last Changed Rev: 42684 / Revision: 43539 |  | Last Changed Date: 2009-10-27 16:33:29 -0700 (Tue, 27 Oct 2009) |  
  | wilson2  | Linux (openSUSE 11.1) / x86_64  |  OK  |  OK  |  | 
| liverpool  | Windows Server 2003 R2 (32-bit) / x64  |  OK  |  OK  | [ OK ] | 
| pitt  | Mac OS X Tiger (10.4.11) / i386  |  OK  |  OK  |  OK  | 
| pelham  | Mac OS X Leopard (10.5.8) / i386  |  OK  |  OK  |  OK  | 
* installing *source* package 'flowUtils' ...
** R
** inst
** preparing package for lazy loading
Loading required package: Biobase
Welcome to Bioconductor
  Vignettes contain introductory material. To view, type
  'openVignette()'. To cite Bioconductor, see
  'citation("Biobase")' and for packages 'citation(pkgname)'.
Loading required package: rrcov
Loading required package: robustbase
Loading required package: pcaPP
Loading required package: mvtnorm
pcaPP 0.1-1 loaded
Scalable Robust Estimators with High Breakdown Point (version 1.0-00)
Attaching package: 'flowCore'
	The following object(s) are masked from package:stats :
	 alias,
	 filter 
Warning in namespaceImportFrom(self, asNamespace(ns)) :
  replacing previous import: nodes
Warning in namespaceImportFrom(self, asNamespace(ns)) :
  replacing previous import: addNode
** help
*** installing help indices
** building package indices ...
** MD5 sums
packaged installation of 'flowUtils' as flowUtils_1.6.0.zip
* DONE (flowUtils)