flowMerge 1.0.0 Greg Finak
 | Snapshot Date: 2009-12-13 23:30:35 -0800 (Sun, 13 Dec 2009) |  | URL: https://hedgehog.fhcrc.org/bioconductor/branches/RELEASE_2_5/madman/Rpacks/flowMerge |  | Last Changed Rev: 42684 / Revision: 43539 |  | Last Changed Date: 2009-10-27 16:33:29 -0700 (Tue, 27 Oct 2009) |  
  | wilson2  | Linux (openSUSE 11.1) / x86_64  |  OK  |  OK  |  | 
| liverpool  | Windows Server 2003 R2 (32-bit) / x64  |  OK  |  OK  |  OK  | 
| pitt  | Mac OS X Tiger (10.4.11) / i386  |  OK  |  OK  | [ OK ] | 
| pelham  | Mac OS X Leopard (10.5.8) / i386  |  OK  |  OK  |  OK  | 
                INSTALLATION WITH 'R CMD INSTALL --preclean --library=flowMerge.buildbin-libdir flowMerge_1.0.0.tar.gz'
* installing *source* package ‘flowMerge’ ...
** R
** data
** inst
** preparing package for lazy loading
Loading required package: mnormt
Loading required package: mclust
by using mclust, you accept the license agreement in the LICENSE file
and at http://www.stat.washington.edu/mclust/license.txt
Loading required package: ellipse
Loading required package: Biobase
Welcome to Bioconductor
  Vignettes contain introductory material. To view, type
  'openVignette()'. To cite Bioconductor, see
  'citation("Biobase")' and for packages 'citation(pkgname)'.
Loading required package: flowCore
Loading required package: rrcov
Loading required package: robustbase
Loading required package: pcaPP
Loading required package: mvtnorm
pcaPP 0.1-1 loaded
Scalable Robust Estimators with High Breakdown Point (version 1.0-00)
Attaching package: 'flowCore'
	The following object(s) are masked from package:stats :
	 alias,
	 filter 
Attaching package: 'flowClust'
	The following object(s) are masked from package:mvtnorm :
	 dmvt 
	The following object(s) are masked from package:graphics :
	 box 
Creating a new generic function for "merge" in "flowMerge"
** help
*** installing help indices
** building package indices ...
* DONE (flowMerge)