| Back to the "Multiple platform build/check report" | A B C D [E] F G H I J K L M N O P Q R S T U V W X Y Z | 
| Package 105/353 | Hostname | OS / Arch | BUILD | CHECK | BUILD BIN | ||||
| edgeR 1.4.3 Mark Robinson 
  | wilson2 | Linux (openSUSE 11.1) / x86_64 | OK | OK | |||||
| liverpool | Windows Server 2003 R2 (32-bit) / x64 | OK | OK | [ OK ] | |||||
| pitt | Mac OS X Tiger (10.4.11) / i386 | OK | OK | OK | |||||
| pelham | Mac OS X Leopard (10.5.8) / i386 | OK | OK | OK | 
| Package: edgeR | 
| Version: 1.4.3 | 
| Command: E:\biocbld\bbs-2.5-bioc\R\bin\R.exe CMD INSTALL --build --library=edgeR.buildbin-libdir edgeR_1.4.3.tar.gz | 
| StartedAt: 2009-12-14 07:02:20 -0800 (Mon, 14 Dec 2009) | 
| EndedAt: 2009-12-14 07:02:27 -0800 (Mon, 14 Dec 2009) | 
| EllapsedTime: 6.5 seconds | 
| RetCode: 0 | 
| Status: OK | 
| PackageFile: edgeR_1.4.3.zip | 
| PackageFileSize: 1.225 MiB | 
* installing *source* package 'edgeR' ... Using auto-selected zip option '--use-zip-data' ** R ** data ** inst ** preparing package for lazy loading ** help *** installing help indices ** building package indices ... ** MD5 sums packaged installation of 'edgeR' as edgeR_1.4.3.zip * DONE (edgeR)