cellHTS2 2.10.2 Florian Hahne
 | Snapshot Date: 2009-12-13 23:30:35 -0800 (Sun, 13 Dec 2009) |  | URL: https://hedgehog.fhcrc.org/bioconductor/branches/RELEASE_2_5/madman/Rpacks/cellHTS2 |  | Last Changed Rev: 43205 / Revision: 43539 |  | Last Changed Date: 2009-11-22 07:54:19 -0800 (Sun, 22 Nov 2009) |  
  | wilson2  | Linux (openSUSE 11.1) / x86_64  |  OK  |  OK  |  | 
| liverpool  | Windows Server 2003 R2 (32-bit) / x64  | [ OK ] |  OK  |  OK  | 
| pitt  | Mac OS X Tiger (10.4.11) / i386  |  OK  |  OK  |  OK  | 
| pelham  | Mac OS X Leopard (10.5.8) / i386  |  OK  |  OK  |  OK  | 
* checking for file 'cellHTS2/DESCRIPTION' ... OK
* preparing 'cellHTS2':
* checking DESCRIPTION meta-information ... OK
* installing the package to re-build vignettes
* installing *source* package 'cellHTS2' ...
** R
** data
** inst
** preparing package for lazy loading
Welcome to Bioconductor
  Vignettes contain introductory material. To view, type
  'openVignette()'. To cite Bioconductor, see
  'citation("Biobase")' and for packages 'citation(pkgname)'.
Loading required package: grid
Scalable Robust Estimators with High Breakdown Point (version 1.0-00)
Creating a new generic function for "lines" in "cellHTS2"
** help
*** installing help indices
** building package indices ...
** MD5 sums
* DONE (cellHTS2)
* creating vignettes ... OK
* removing junk files
* checking for LF line-endings in source and make files
* checking for empty or unneeded directories
* building 'cellHTS2_2.10.2.tar.gz'