aroma.light 1.14.0 Henrik Bengtsson
 | Snapshot Date: 2009-12-13 23:30:35 -0800 (Sun, 13 Dec 2009) |  | URL: https://hedgehog.fhcrc.org/bioconductor/branches/RELEASE_2_5/madman/Rpacks/aroma.light |  | Last Changed Rev: 42684 / Revision: 43539 |  | Last Changed Date: 2009-10-27 16:33:29 -0700 (Tue, 27 Oct 2009) |  
  | wilson2  | Linux (openSUSE 11.1) / x86_64  |  OK  |  OK  |  | 
| liverpool  | Windows Server 2003 R2 (32-bit) / x64  |  OK  |  OK  |  OK  | 
| pitt  | Mac OS X Tiger (10.4.11) / i386  |  OK  |  OK  |  OK  | 
| pelham  | Mac OS X Leopard (10.5.8) / i386  |  OK  |  OK  | [ OK ] | 
                INSTALLATION WITH 'R CMD INSTALL --preclean --library=aroma.light.buildbin-libdir aroma.light_1.14.0.tar.gz'
* installing *source* package ‘aroma.light’ ...
** R
** inst
** preparing package for lazy loading
R.methodsS3 v1.0.3 (2008-07-02) successfully loaded. See ?R.methodsS3 for help.
** help
*** installing help indices
** building package indices ...
* DONE (aroma.light)