adSplit 1.16.0 Claudio Lottaz
 | Snapshot Date: 2009-12-13 23:30:35 -0800 (Sun, 13 Dec 2009) |  | URL: https://hedgehog.fhcrc.org/bioconductor/branches/RELEASE_2_5/madman/Rpacks/adSplit |  | Last Changed Rev: 42684 / Revision: 43539 |  | Last Changed Date: 2009-10-27 16:33:29 -0700 (Tue, 27 Oct 2009) |  
  | wilson2  | Linux (openSUSE 11.1) / x86_64  |  OK  |  OK  |  | 
| liverpool  | Windows Server 2003 R2 (32-bit) / x64  | [ OK ] |  OK  |  OK  | 
| pitt  | Mac OS X Tiger (10.4.11) / i386  |  OK  |  OK  |  OK  | 
| pelham  | Mac OS X Leopard (10.5.8) / i386  |  OK  |  OK  |  OK  | 
* checking for file 'adSplit/DESCRIPTION' ... OK
* preparing 'adSplit':
* checking DESCRIPTION meta-information ... OK
* cleaning src
* installing the package to re-build vignettes
* installing *source* package 'adSplit' ...
** libs
  making DLL ...
g++ -I"e:/biocbld/bbs-2.5-bioc/R/include"        -O2 -Wall  -c adSplit.cpp -o adSplit.o
adSplit.cpp: In function 'double tscore(double*, int, int, split&, isis_pars&)':
adSplit.cpp:256: warning: deprecated conversion from string constant to 'char*'
adSplit.cpp: In function 'void isis(char**, double*, int*, int*, int*, int*, int*, double*, int*)':
adSplit.cpp:469: warning: deprecated conversion from string constant to 'char*'
g++ -shared -s -o adSplit.dll tmp.def adSplit.o -Le:/biocbld/bbs-2.5-bioc/R/bin -lR
  ... done
** R
** data
** inst
** preparing package for lazy loading
Loading required package: Biobase
Welcome to Bioconductor
  Vignettes contain introductory material. To view, type
  'openVignette()'. To cite Bioconductor, see
  'citation("Biobase")' and for packages 'citation(pkgname)'.
Loading required package: AnnotationDbi
Loading required package: DBI
** help
*** installing help indices
** building package indices ...
** MD5 sums
* DONE (adSplit)
* creating vignettes ... OK
* cleaning src
* removing junk files
* checking for LF line-endings in source and make files
* checking for empty or unneeded directories
* building 'adSplit_1.16.0.tar.gz'