TargetSearch 1.2.0 Alvaro Cuadros-Inostroza
 | Snapshot Date: 2009-12-13 23:30:35 -0800 (Sun, 13 Dec 2009) |  | URL: https://hedgehog.fhcrc.org/bioconductor/branches/RELEASE_2_5/madman/Rpacks/TargetSearch |  | Last Changed Rev: 42684 / Revision: 43539 |  | Last Changed Date: 2009-10-27 16:33:29 -0700 (Tue, 27 Oct 2009) |  
  | wilson2  | Linux (openSUSE 11.1) / x86_64  |  OK  |  OK  |  | 
| liverpool  | Windows Server 2003 R2 (32-bit) / x64  | [ OK ] |  OK  |  OK  | 
| pitt  | Mac OS X Tiger (10.4.11) / i386  |  OK  |  OK  |  OK  | 
| pelham  | Mac OS X Leopard (10.5.8) / i386  |  OK  |  OK  |  OK  | 
* checking for file 'TargetSearch/DESCRIPTION' ... OK
* preparing 'TargetSearch':
* checking DESCRIPTION meta-information ... OK
* cleaning src
* installing the package to re-build vignettes
* installing *source* package 'TargetSearch' ...
** libs
  making DLL ...
gcc -I"e:/biocbld/bbs-2.5-bioc/R/include"        -O3 -Wall  -std=gnu99 -c Rinit.c -o Rinit.o
gcc -I"e:/biocbld/bbs-2.5-bioc/R/include"        -O3 -Wall  -std=gnu99 -c find_peaks.c -o find_peaks.o
gcc -I"e:/biocbld/bbs-2.5-bioc/R/include"        -O3 -Wall  -std=gnu99 -c getLine.c -o getLine.o
gcc -I"e:/biocbld/bbs-2.5-bioc/R/include"        -O3 -Wall  -std=gnu99 -c hpf.c -o hpf.o
gcc -I"e:/biocbld/bbs-2.5-bioc/R/include"        -O3 -Wall  -std=gnu99 -c netcdf_peak_finding.c -o netcdf_peak_finding.o
gcc -I"e:/biocbld/bbs-2.5-bioc/R/include"        -O3 -Wall  -std=gnu99 -c peakExtraction.c -o peakExtraction.o
gcc -I"e:/biocbld/bbs-2.5-bioc/R/include"        -O3 -Wall  -std=gnu99 -c ppc.c -o ppc.o
gcc -shared -s -o TargetSearch.dll tmp.def Rinit.o find_peaks.o getLine.o hpf.o netcdf_peak_finding.o peakExtraction.o ppc.o -Le:/biocbld/bbs-2.5-bioc/R/bin -lR
  ... done
** R
** inst
** preparing package for lazy loading
Loading Tcl/Tk interface ... done
** help
*** installing help indices
** building package indices ...
** MD5 sums
* DONE (TargetSearch)
* creating vignettes ... OK
* cleaning src
* removing junk files
* checking for LF line-endings in source and make files
* checking for empty or unneeded directories
* building 'TargetSearch_1.2.0.tar.gz'