Starr 1.2.2 Benedikt Zacher
 | Snapshot Date: 2009-12-13 23:30:35 -0800 (Sun, 13 Dec 2009) |  | URL: https://hedgehog.fhcrc.org/bioconductor/branches/RELEASE_2_5/madman/Rpacks/Starr |  | Last Changed Rev: 43419 / Revision: 43539 |  | Last Changed Date: 2009-12-06 08:57:04 -0800 (Sun, 06 Dec 2009) |  
  | wilson2  | Linux (openSUSE 11.1) / x86_64  |  OK  |  OK  |  | 
| liverpool  | Windows Server 2003 R2 (32-bit) / x64  | [ OK ] |  OK  |  OK  | 
| pitt  | Mac OS X Tiger (10.4.11) / i386  |  OK  |  OK  |  OK  | 
| pelham  | Mac OS X Leopard (10.5.8) / i386  |  OK  |  OK  |  OK  | 
* checking for file 'Starr/DESCRIPTION' ... OK
* preparing 'Starr':
* checking DESCRIPTION meta-information ... OK
* cleaning src
* installing the package to re-build vignettes
* installing *source* package 'Starr' ...
** libs
  making DLL ...
gcc -I"e:/biocbld/bbs-2.5-bioc/R/include"        -O3 -Wall  -std=gnu99 -c collect.c -o collect.o
gcc -I"e:/biocbld/bbs-2.5-bioc/R/include"        -O3 -Wall  -std=gnu99 -c fixed_gen_dist2.c -o fixed_gen_dist2.o
gcc -I"e:/biocbld/bbs-2.5-bioc/R/include"        -O3 -Wall  -std=gnu99 -c rm_small_peak.c -o rm_small_peak.o
gcc -I"e:/biocbld/bbs-2.5-bioc/R/include"        -O3 -Wall  -std=gnu99 -c sort_by_genomic.c -o sort_by_genomic.o
gcc -shared -s -o Starr.dll tmp.def collect.o fixed_gen_dist2.o rm_small_peak.o sort_by_genomic.o -Le:/biocbld/bbs-2.5-bioc/R/bin -lR
  ... done
** R
** inst
** preparing package for lazy loading
Loading required package: Biobase
Welcome to Bioconductor
  Vignettes contain introductory material. To view, type
  'openVignette()'. To cite Bioconductor, see
  'citation("Biobase")' and for packages 'citation(pkgname)'.
Loading required package: RColorBrewer
Loading required package: limma
Loading required package: Matrix
Loading required package: lattice
Loading required package: grid
Attaching package: 'affy'
	The following object(s) are masked from package:Ringo :
	 probes 
** help
*** installing help indices
** building package indices ...
** MD5 sums
* DONE (Starr)
* creating vignettes ... OK
* cleaning src
* removing junk files
* checking for LF line-endings in source and make files
* checking for empty or unneeded directories
* building 'Starr_1.2.2.tar.gz'